BEGIN:VCALENDAR
VERSION:2.0
PRODID:-//Linwood Country Club - ECPv6.15.20//NONSGML v1.0//EN
CALSCALE:GREGORIAN
METHOD:PUBLISH
X-ORIGINAL-URL:https://www.linwoodcountryclub.com
X-WR-CALDESC:Events for Linwood Country Club
REFRESH-INTERVAL;VALUE=DURATION:PT1H
X-Robots-Tag:noindex
X-PUBLISHED-TTL:PT1H
BEGIN:VTIMEZONE
TZID:UTC
BEGIN:STANDARD
TZOFFSETFROM:+0000
TZOFFSETTO:+0000
TZNAME:UTC
DTSTART:20250101T000000
END:STANDARD
END:VTIMEZONE
BEGIN:VEVENT
DTSTART;TZID=UTC:20260115T150000
DTEND;TZID=UTC:20260115T180000
DTSTAMP:20260421T023311
CREATED:20251217T184648Z
LAST-MODIFIED:20260105T161841Z
UID:10000473-1768489200-1768500000@www.linwoodcountryclub.com
SUMMARY:Takeout Thursday
DESCRIPTION:Every Thursday\, take home a complete family meal! These weekly meals are available in full size (or 6-8 people\, $92) or half size (3-4 people\, $48). \nTo order\, please call (609) 927 – 6134 or email office@linwoodcountryclub.com. Orders must be placed by 1pm on the day of pickup. \nJANUARY\n1/1 – Shrimp Scampi – Penne\, Spinach & Tomato\, Broccoli\, Caesar Salad \n1/8 – Chicken Marsala – Wild Mushrooms\, Roasted Potatoes\, Chopped Salad \n1/15 – Turkey a la King – Stuffing\, Green Beans\, House Salad \n1/22 – Filet Ragout – Rigatoni\, Parmesan Squash\, Caesar Salad \n1/29 – Baked Ham – Macaroni and Cheese\, Broccoli\, Chopped Salad
URL:https://www.linwoodcountryclub.com/event/takeout-thursday/2026-01-15/
CATEGORIES:Restaurant
ATTACH;FMTTYPE=image/jpeg:https://www.linwoodcountryclub.com/wp-content/uploads/2021/12/Takeout-Thursday.jpg
END:VEVENT
BEGIN:VEVENT
DTSTART;TZID=UTC:20260122T150000
DTEND;TZID=UTC:20260122T180000
DTSTAMP:20260421T023311
CREATED:20251217T184648Z
LAST-MODIFIED:20260105T161841Z
UID:10000474-1769094000-1769104800@www.linwoodcountryclub.com
SUMMARY:Takeout Thursday
DESCRIPTION:Every Thursday\, take home a complete family meal! These weekly meals are available in full size (or 6-8 people\, $92) or half size (3-4 people\, $48). \nTo order\, please call (609) 927 – 6134 or email office@linwoodcountryclub.com. Orders must be placed by 1pm on the day of pickup. \nJANUARY\n1/1 – Shrimp Scampi – Penne\, Spinach & Tomato\, Broccoli\, Caesar Salad \n1/8 – Chicken Marsala – Wild Mushrooms\, Roasted Potatoes\, Chopped Salad \n1/15 – Turkey a la King – Stuffing\, Green Beans\, House Salad \n1/22 – Filet Ragout – Rigatoni\, Parmesan Squash\, Caesar Salad \n1/29 – Baked Ham – Macaroni and Cheese\, Broccoli\, Chopped Salad
URL:https://www.linwoodcountryclub.com/event/takeout-thursday/2026-01-22/
CATEGORIES:Restaurant
ATTACH;FMTTYPE=image/jpeg:https://www.linwoodcountryclub.com/wp-content/uploads/2021/12/Takeout-Thursday.jpg
END:VEVENT
BEGIN:VEVENT
DTSTART;TZID=UTC:20260129T150000
DTEND;TZID=UTC:20260129T180000
DTSTAMP:20260421T023311
CREATED:20251217T184648Z
LAST-MODIFIED:20260105T161841Z
UID:10000475-1769698800-1769709600@www.linwoodcountryclub.com
SUMMARY:Takeout Thursday
DESCRIPTION:Every Thursday\, take home a complete family meal! These weekly meals are available in full size (or 6-8 people\, $92) or half size (3-4 people\, $48). \nTo order\, please call (609) 927 – 6134 or email office@linwoodcountryclub.com. Orders must be placed by 1pm on the day of pickup. \nJANUARY\n1/1 – Shrimp Scampi – Penne\, Spinach & Tomato\, Broccoli\, Caesar Salad \n1/8 – Chicken Marsala – Wild Mushrooms\, Roasted Potatoes\, Chopped Salad \n1/15 – Turkey a la King – Stuffing\, Green Beans\, House Salad \n1/22 – Filet Ragout – Rigatoni\, Parmesan Squash\, Caesar Salad \n1/29 – Baked Ham – Macaroni and Cheese\, Broccoli\, Chopped Salad
URL:https://www.linwoodcountryclub.com/event/takeout-thursday/2026-01-29/
CATEGORIES:Restaurant
ATTACH;FMTTYPE=image/jpeg:https://www.linwoodcountryclub.com/wp-content/uploads/2021/12/Takeout-Thursday.jpg
END:VEVENT
BEGIN:VEVENT
DTSTART;TZID=UTC:20260131T130000
DTEND;TZID=UTC:20260131T160000
DTSTAMP:20260421T023311
CREATED:20260129T200815Z
LAST-MODIFIED:20260129T200900Z
UID:10000489-1769864400-1769875200@www.linwoodcountryclub.com
SUMMARY:Linwood Bridal Show
DESCRIPTION:Date & Time:  Saturday\, January 31\, 2026 from 1pm – 4pm \nAbout the Event: \nWith over 40 wedding vendors showcasing their products and services – from stunning floral design to expert hair and makeup professionals\, bridal gown shops to photographers – this event is your one-stop-shop for wedding planning bliss. \nIndulge in delicious passed appetizers and sip on your favorite beverage from our cash bar as you explore the latest trends in bridal fashion\, photography\, decor and more! \nThis is a laid back event meant to celebrate YOU! Whether you are newly engaged\, getting close to your big day\, or even just anticipating a ring\, we invite you to come meet and mingle with the best in South Jersey weddings! \nFor more info (including vendor list) and to register for FREE\, please visit https://www.linwoodweddingsnj.com/bridal-show
URL:https://www.linwoodcountryclub.com/event/linwood-bridal-show/
ATTACH;FMTTYPE=image/png:https://www.linwoodcountryclub.com/wp-content/uploads/2026/01/Copy-of-LINWOOD-COUNTRY-CLUB.png
END:VEVENT
BEGIN:VEVENT
DTSTART;TZID=UTC:20260205T150000
DTEND;TZID=UTC:20260205T180000
DTSTAMP:20260421T023311
CREATED:20260129T200249Z
LAST-MODIFIED:20260208T170302Z
UID:10000490-1770303600-1770314400@www.linwoodcountryclub.com
SUMMARY:Takeout Thursday
DESCRIPTION:Every Thursday\, take home a complete family meal! These weekly meals are available in full size (or 6-8 people\, $92) or half size (3-4 people\, $48). \nTo order\, please call (609) 927 – 6134 or email office@linwoodcountryclub.com. Orders must be placed by 1pm on the day of pickup. \nFEBRUARY\n2/5 – Turkey Chili – Cornbread\, Green Beans\, Arugula Salad \n2/12 – Rigatoni Bolognese – Broccoli\, Caesar Salad\, Garlic Bread \n2/19 – Shrimp Fra Diavolo –Penne\, Roasted Squash\, Chopped Salad \n2/26 – Chicken Cacciatore – Peppers\, Mushrooms & Potatoes\, Caesar Salad
URL:https://www.linwoodcountryclub.com/event/takeout-thursday-2/2026-02-05/
CATEGORIES:Restaurant
ATTACH;FMTTYPE=image/jpeg:https://www.linwoodcountryclub.com/wp-content/uploads/2021/12/Takeout-Thursday.jpg
END:VEVENT
BEGIN:VEVENT
DTSTART;TZID=UTC:20260212T150000
DTEND;TZID=UTC:20260212T180000
DTSTAMP:20260421T023311
CREATED:20260129T200249Z
LAST-MODIFIED:20260208T170302Z
UID:10000491-1770908400-1770919200@www.linwoodcountryclub.com
SUMMARY:Takeout Thursday
DESCRIPTION:Every Thursday\, take home a complete family meal! These weekly meals are available in full size (or 6-8 people\, $92) or half size (3-4 people\, $48). \nTo order\, please call (609) 927 – 6134 or email office@linwoodcountryclub.com. Orders must be placed by 1pm on the day of pickup. \nFEBRUARY\n2/5 – Turkey Chili – Cornbread\, Green Beans\, Arugula Salad \n2/12 – Rigatoni Bolognese – Broccoli\, Caesar Salad\, Garlic Bread \n2/19 – Shrimp Fra Diavolo –Penne\, Roasted Squash\, Chopped Salad \n2/26 – Chicken Cacciatore – Peppers\, Mushrooms & Potatoes\, Caesar Salad
URL:https://www.linwoodcountryclub.com/event/takeout-thursday-2/2026-02-12/
CATEGORIES:Restaurant
ATTACH;FMTTYPE=image/jpeg:https://www.linwoodcountryclub.com/wp-content/uploads/2021/12/Takeout-Thursday.jpg
END:VEVENT
BEGIN:VEVENT
DTSTART;VALUE=DATE:20260213
DTEND;VALUE=DATE:20260216
DTSTAMP:20260421T023311
CREATED:20260120T193228Z
LAST-MODIFIED:20260121T213325Z
UID:10000476-1770940800-1771199999@www.linwoodcountryclub.com
SUMMARY:Valentine's Weekend Menu Additions
DESCRIPTION:Indulge in special menu additions for the holiday weekend. Starting at 4pm on Friday\, February 13 – Sunday\, February 15\, we will have delicious additions to the regular menu. Reservations are strongly recommended. Visit Resy or call 609.927.6134
URL:https://www.linwoodcountryclub.com/event/valentines-weekend/
CATEGORIES:Restaurant
ATTACH;FMTTYPE=image/png:https://www.linwoodcountryclub.com/wp-content/uploads/2026/01/Copy-of-Valentines-Menu-2026-3-x-3-in-1.png
END:VEVENT
BEGIN:VEVENT
DTSTART;TZID=UTC:20260219T150000
DTEND;TZID=UTC:20260219T180000
DTSTAMP:20260421T023311
CREATED:20260129T200249Z
LAST-MODIFIED:20260208T170302Z
UID:10000492-1771513200-1771524000@www.linwoodcountryclub.com
SUMMARY:Takeout Thursday
DESCRIPTION:Every Thursday\, take home a complete family meal! These weekly meals are available in full size (or 6-8 people\, $92) or half size (3-4 people\, $48). \nTo order\, please call (609) 927 – 6134 or email office@linwoodcountryclub.com. Orders must be placed by 1pm on the day of pickup. \nFEBRUARY\n2/5 – Turkey Chili – Cornbread\, Green Beans\, Arugula Salad \n2/12 – Rigatoni Bolognese – Broccoli\, Caesar Salad\, Garlic Bread \n2/19 – Shrimp Fra Diavolo –Penne\, Roasted Squash\, Chopped Salad \n2/26 – Chicken Cacciatore – Peppers\, Mushrooms & Potatoes\, Caesar Salad
URL:https://www.linwoodcountryclub.com/event/takeout-thursday-2/2026-02-19/
CATEGORIES:Restaurant
ATTACH;FMTTYPE=image/jpeg:https://www.linwoodcountryclub.com/wp-content/uploads/2021/12/Takeout-Thursday.jpg
END:VEVENT
BEGIN:VEVENT
DTSTART;TZID=UTC:20260226T150000
DTEND;TZID=UTC:20260226T180000
DTSTAMP:20260421T023311
CREATED:20260129T200249Z
LAST-MODIFIED:20260208T170302Z
UID:10000493-1772118000-1772128800@www.linwoodcountryclub.com
SUMMARY:Takeout Thursday
DESCRIPTION:Every Thursday\, take home a complete family meal! These weekly meals are available in full size (or 6-8 people\, $92) or half size (3-4 people\, $48). \nTo order\, please call (609) 927 – 6134 or email office@linwoodcountryclub.com. Orders must be placed by 1pm on the day of pickup. \nFEBRUARY\n2/5 – Turkey Chili – Cornbread\, Green Beans\, Arugula Salad \n2/12 – Rigatoni Bolognese – Broccoli\, Caesar Salad\, Garlic Bread \n2/19 – Shrimp Fra Diavolo –Penne\, Roasted Squash\, Chopped Salad \n2/26 – Chicken Cacciatore – Peppers\, Mushrooms & Potatoes\, Caesar Salad
URL:https://www.linwoodcountryclub.com/event/takeout-thursday-2/2026-02-26/
CATEGORIES:Restaurant
ATTACH;FMTTYPE=image/jpeg:https://www.linwoodcountryclub.com/wp-content/uploads/2021/12/Takeout-Thursday.jpg
END:VEVENT
BEGIN:VEVENT
DTSTART;TZID=UTC:20260305T150000
DTEND;TZID=UTC:20260305T180000
DTSTAMP:20260421T023311
CREATED:20260221T163313Z
LAST-MODIFIED:20260306T201136Z
UID:10000498-1772722800-1772733600@www.linwoodcountryclub.com
SUMMARY:Takeout Thursday
DESCRIPTION:Every Thursday\, take home a complete family meal! These weekly meals are available in full size (or 6-8 people\, $92) or half size (3-4 people\, $48). \nTo order\, please call (609) 927 – 6134 or email office@linwoodcountryclub.com. Orders must be placed by 1pm on the day of pickup. \nMARCH\n3/5 – Shrimp Scampi \n3/12 – Chicken Piccata \n3/19 – Shepherd’s Pie \n3/26 – Baked Bolognese \n4/2 – Shrimp Fra Diavolo
URL:https://www.linwoodcountryclub.com/event/takeout-thursday-3/2026-03-05/
CATEGORIES:Restaurant
ATTACH;FMTTYPE=image/jpeg:https://www.linwoodcountryclub.com/wp-content/uploads/2021/12/Takeout-Thursday.jpg
END:VEVENT
BEGIN:VEVENT
DTSTART;TZID=UTC:20260312T150000
DTEND;TZID=UTC:20260312T180000
DTSTAMP:20260421T023311
CREATED:20260221T163313Z
LAST-MODIFIED:20260306T201136Z
UID:10000499-1773327600-1773338400@www.linwoodcountryclub.com
SUMMARY:Takeout Thursday
DESCRIPTION:Every Thursday\, take home a complete family meal! These weekly meals are available in full size (or 6-8 people\, $92) or half size (3-4 people\, $48). \nTo order\, please call (609) 927 – 6134 or email office@linwoodcountryclub.com. Orders must be placed by 1pm on the day of pickup. \nMARCH\n3/5 – Shrimp Scampi \n3/12 – Chicken Piccata \n3/19 – Shepherd’s Pie \n3/26 – Baked Bolognese \n4/2 – Shrimp Fra Diavolo
URL:https://www.linwoodcountryclub.com/event/takeout-thursday-3/2026-03-12/
CATEGORIES:Restaurant
ATTACH;FMTTYPE=image/jpeg:https://www.linwoodcountryclub.com/wp-content/uploads/2021/12/Takeout-Thursday.jpg
END:VEVENT
BEGIN:VEVENT
DTSTART;TZID=UTC:20260319T150000
DTEND;TZID=UTC:20260319T180000
DTSTAMP:20260421T023311
CREATED:20260221T163313Z
LAST-MODIFIED:20260306T201136Z
UID:10000500-1773932400-1773943200@www.linwoodcountryclub.com
SUMMARY:Takeout Thursday
DESCRIPTION:Every Thursday\, take home a complete family meal! These weekly meals are available in full size (or 6-8 people\, $92) or half size (3-4 people\, $48). \nTo order\, please call (609) 927 – 6134 or email office@linwoodcountryclub.com. Orders must be placed by 1pm on the day of pickup. \nMARCH\n3/5 – Shrimp Scampi \n3/12 – Chicken Piccata \n3/19 – Shepherd’s Pie \n3/26 – Baked Bolognese \n4/2 – Shrimp Fra Diavolo
URL:https://www.linwoodcountryclub.com/event/takeout-thursday-3/2026-03-19/
CATEGORIES:Restaurant
ATTACH;FMTTYPE=image/jpeg:https://www.linwoodcountryclub.com/wp-content/uploads/2021/12/Takeout-Thursday.jpg
END:VEVENT
BEGIN:VEVENT
DTSTART;TZID=UTC:20260326T150000
DTEND;TZID=UTC:20260326T180000
DTSTAMP:20260421T023311
CREATED:20260221T163313Z
LAST-MODIFIED:20260306T201136Z
UID:10000501-1774537200-1774548000@www.linwoodcountryclub.com
SUMMARY:Takeout Thursday
DESCRIPTION:Every Thursday\, take home a complete family meal! These weekly meals are available in full size (or 6-8 people\, $92) or half size (3-4 people\, $48). \nTo order\, please call (609) 927 – 6134 or email office@linwoodcountryclub.com. Orders must be placed by 1pm on the day of pickup. \nMARCH\n3/5 – Shrimp Scampi \n3/12 – Chicken Piccata \n3/19 – Shepherd’s Pie \n3/26 – Baked Bolognese \n4/2 – Shrimp Fra Diavolo
URL:https://www.linwoodcountryclub.com/event/takeout-thursday-3/2026-03-26/
CATEGORIES:Restaurant
ATTACH;FMTTYPE=image/jpeg:https://www.linwoodcountryclub.com/wp-content/uploads/2021/12/Takeout-Thursday.jpg
END:VEVENT
BEGIN:VEVENT
DTSTART;TZID=UTC:20260402T150000
DTEND;TZID=UTC:20260402T180000
DTSTAMP:20260421T023311
CREATED:20260221T163313Z
LAST-MODIFIED:20260306T201136Z
UID:10000502-1775142000-1775152800@www.linwoodcountryclub.com
SUMMARY:Takeout Thursday
DESCRIPTION:Every Thursday\, take home a complete family meal! These weekly meals are available in full size (or 6-8 people\, $92) or half size (3-4 people\, $48). \nTo order\, please call (609) 927 – 6134 or email office@linwoodcountryclub.com. Orders must be placed by 1pm on the day of pickup. \nMARCH\n3/5 – Shrimp Scampi \n3/12 – Chicken Piccata \n3/19 – Shepherd’s Pie \n3/26 – Baked Bolognese \n4/2 – Shrimp Fra Diavolo
URL:https://www.linwoodcountryclub.com/event/takeout-thursday-3/2026-04-02/
CATEGORIES:Restaurant
ATTACH;FMTTYPE=image/jpeg:https://www.linwoodcountryclub.com/wp-content/uploads/2021/12/Takeout-Thursday.jpg
END:VEVENT
BEGIN:VEVENT
DTSTART;VALUE=DATE:20260405
DTEND;VALUE=DATE:20260406
DTSTAMP:20260421T023311
CREATED:20250228T194502Z
LAST-MODIFIED:20260226T164416Z
UID:10000024-1775347200-1775433599@www.linwoodcountryclub.com
SUMMARY:Easter Brunch
DESCRIPTION:Our annual Easter Brunch will take place on Sunday\, April 5. Reservations are available for an 11am or 2pm seating. In addition to brunch\, your reservation includes access to the petting zoo (12pm – 3pm) and the Easter egg hunt (12:30pm or 3:30pm). The price is $62 for adults and $28 for children ages 4-12 (kids 3 and under are free!) \nBrunch buffet menu includes:\nPastries\, Bagels\, Muffins\, Omelet Station\nBreakfast Potatoes\, Bacon\, Sausage\nMini Fritattas\, French Toast\nCaesar & Arugula Salads\nSmoked Salmon\, Pasta Carbonara\nRoasted Chicken\, Orange Glazed Ham\,\nFilet Mignon Carving Station\,\nSeasonal Mini Desserts & Fruit \nSeating is limited\, and reservations and required. Please call (609) 927-6134 to make your reservation today!
URL:https://www.linwoodcountryclub.com/event/easter-brunch/
LOCATION:Linwood Country Club\, 500 Shore Road\, Linwood\, NJ\, 08221\, United States
CATEGORIES:Restaurant
ATTACH;FMTTYPE=image/jpeg:https://www.linwoodcountryclub.com/wp-content/uploads/2025/02/Easter-Brunch-Flyer-website-1.jpg
END:VEVENT
BEGIN:VEVENT
DTSTART;TZID=UTC:20260405T170000
DTEND;TZID=UTC:20260405T190000
DTSTAMP:20260421T023311
CREATED:20250228T195117Z
LAST-MODIFIED:20260306T202525Z
UID:10000025-1775408400-1775415600@www.linwoodcountryclub.com
SUMMARY:Easter Dinner
DESCRIPTION:Shay’s is open on Easter with special menu additions! Reservations are available from 5:00pm – 7:00pm. The regular menu is also available. Reservations are required. Please call (609) 927-6134.
URL:https://www.linwoodcountryclub.com/event/easter-dinner/
CATEGORIES:Restaurant
END:VEVENT
BEGIN:VEVENT
DTSTART;TZID=UTC:20260407T150000
DTEND;TZID=UTC:20260407T180000
DTSTAMP:20260421T023311
CREATED:20260402T180022Z
LAST-MODIFIED:20260402T180435Z
UID:10000507-1775574000-1775584800@www.linwoodcountryclub.com
SUMMARY:Takeout Tuesday
DESCRIPTION:Every Tuesday\, take home a complete family meal! These weekly meals are available in full size (or 6-8 people\, $92) or half size (3-4 people\, $48). \nTo order\, please call (609) 927 – 6134 or email office@linwoodcountryclub.com. Orders must be placed by 1pm on the day of pickup. \nAPRIL\n4/7 – Chicken Marsala – Roasted Potatoes\, Green Beans\, Caesar Salad \n4/14 – Turkey a la King – Stuffing\, Broccoli\, Arugula Salad \n4/21 – Short Rib Bolognese – Rigatoni\, Parmesan Squash\, Chopped Salad \n4/28 – Shrimp Alfredo with Broccoli – Penne\, Garlic Bread\, Caesar Salad
URL:https://www.linwoodcountryclub.com/event/takeout-tuesday-8/2026-04-07/
CATEGORIES:Restaurant
ATTACH;FMTTYPE=image/jpeg:https://www.linwoodcountryclub.com/wp-content/uploads/2026/04/Takeout-Tuesday.jpg
END:VEVENT
BEGIN:VEVENT
DTSTART;TZID=UTC:20260414T150000
DTEND;TZID=UTC:20260414T180000
DTSTAMP:20260421T023311
CREATED:20260402T180022Z
LAST-MODIFIED:20260402T180435Z
UID:10000508-1776178800-1776189600@www.linwoodcountryclub.com
SUMMARY:Takeout Tuesday
DESCRIPTION:Every Tuesday\, take home a complete family meal! These weekly meals are available in full size (or 6-8 people\, $92) or half size (3-4 people\, $48). \nTo order\, please call (609) 927 – 6134 or email office@linwoodcountryclub.com. Orders must be placed by 1pm on the day of pickup. \nAPRIL\n4/7 – Chicken Marsala – Roasted Potatoes\, Green Beans\, Caesar Salad \n4/14 – Turkey a la King – Stuffing\, Broccoli\, Arugula Salad \n4/21 – Short Rib Bolognese – Rigatoni\, Parmesan Squash\, Chopped Salad \n4/28 – Shrimp Alfredo with Broccoli – Penne\, Garlic Bread\, Caesar Salad
URL:https://www.linwoodcountryclub.com/event/takeout-tuesday-8/2026-04-14/
CATEGORIES:Restaurant
ATTACH;FMTTYPE=image/jpeg:https://www.linwoodcountryclub.com/wp-content/uploads/2026/04/Takeout-Tuesday.jpg
END:VEVENT
BEGIN:VEVENT
DTSTART;TZID=UTC:20260421T150000
DTEND;TZID=UTC:20260421T180000
DTSTAMP:20260421T023311
CREATED:20260402T180022Z
LAST-MODIFIED:20260402T180435Z
UID:10000509-1776783600-1776794400@www.linwoodcountryclub.com
SUMMARY:Takeout Tuesday
DESCRIPTION:Every Tuesday\, take home a complete family meal! These weekly meals are available in full size (or 6-8 people\, $92) or half size (3-4 people\, $48). \nTo order\, please call (609) 927 – 6134 or email office@linwoodcountryclub.com. Orders must be placed by 1pm on the day of pickup. \nAPRIL\n4/7 – Chicken Marsala – Roasted Potatoes\, Green Beans\, Caesar Salad \n4/14 – Turkey a la King – Stuffing\, Broccoli\, Arugula Salad \n4/21 – Short Rib Bolognese – Rigatoni\, Parmesan Squash\, Chopped Salad \n4/28 – Shrimp Alfredo with Broccoli – Penne\, Garlic Bread\, Caesar Salad
URL:https://www.linwoodcountryclub.com/event/takeout-tuesday-8/2026-04-21/
CATEGORIES:Restaurant
ATTACH;FMTTYPE=image/jpeg:https://www.linwoodcountryclub.com/wp-content/uploads/2026/04/Takeout-Tuesday.jpg
END:VEVENT
BEGIN:VEVENT
DTSTART;TZID=UTC:20260426T080000
DTEND;TZID=UTC:20260426T170000
DTSTAMP:20260421T023311
CREATED:20260414T142524Z
LAST-MODIFIED:20260414T143656Z
UID:10000513-1777190400-1777222800@www.linwoodcountryclub.com
SUMMARY:XXIO Demo Day
DESCRIPTION:XXIO is different. XXIO designs the head\, shaft and grip for each club as a cohesive unit for Women and Senior golfers. This produces unique golf clubs that are exceptionally easy to swing\, which launch the ball higher and farther. See for yourself how the engineering of XXIO can give you more distance compared to the product in your bag.
URL:https://www.linwoodcountryclub.com/event/xxio-demo-day-5/
CATEGORIES:demo day,Golf
ATTACH;FMTTYPE=image/png:https://www.linwoodcountryclub.com/wp-content/uploads/2025/02/xxio.png
END:VEVENT
BEGIN:VEVENT
DTSTART;TZID=UTC:20260428T150000
DTEND;TZID=UTC:20260428T180000
DTSTAMP:20260421T023311
CREATED:20260402T180022Z
LAST-MODIFIED:20260402T180435Z
UID:10000510-1777388400-1777399200@www.linwoodcountryclub.com
SUMMARY:Takeout Tuesday
DESCRIPTION:Every Tuesday\, take home a complete family meal! These weekly meals are available in full size (or 6-8 people\, $92) or half size (3-4 people\, $48). \nTo order\, please call (609) 927 – 6134 or email office@linwoodcountryclub.com. Orders must be placed by 1pm on the day of pickup. \nAPRIL\n4/7 – Chicken Marsala – Roasted Potatoes\, Green Beans\, Caesar Salad \n4/14 – Turkey a la King – Stuffing\, Broccoli\, Arugula Salad \n4/21 – Short Rib Bolognese – Rigatoni\, Parmesan Squash\, Chopped Salad \n4/28 – Shrimp Alfredo with Broccoli – Penne\, Garlic Bread\, Caesar Salad
URL:https://www.linwoodcountryclub.com/event/takeout-tuesday-8/2026-04-28/
CATEGORIES:Restaurant
ATTACH;FMTTYPE=image/jpeg:https://www.linwoodcountryclub.com/wp-content/uploads/2026/04/Takeout-Tuesday.jpg
END:VEVENT
BEGIN:VEVENT
DTSTART;TZID=UTC:20260501T100000
DTEND;TZID=UTC:20260501T150000
DTSTAMP:20260421T023311
CREATED:20250219T171238Z
LAST-MODIFIED:20260414T143712Z
UID:10000013-1777629600-1777647600@www.linwoodcountryclub.com
SUMMARY:Callaway Fitting Day
DESCRIPTION:Plan ahead and mark your calendars to update your equipment. As we near the date\, members will be sent an appointment link to set up your fitting appointment. Although walkups will be welcomed\, it will be best to make an appointment to have the undivided attention of the technician handling the fitting.
URL:https://www.linwoodcountryclub.com/event/callaway-demo-day-2/
CATEGORIES:demo day,Golf
ATTACH;FMTTYPE=image/jpeg:https://www.linwoodcountryclub.com/wp-content/uploads/2025/02/Callaway_Golf_Company_logo.jpg
END:VEVENT
BEGIN:VEVENT
DTSTART;TZID=UTC:20260510T110000
DTEND;TZID=UTC:20260510T160000
DTSTAMP:20260421T023311
CREATED:20260402T181258Z
LAST-MODIFIED:20260402T182753Z
UID:10000511-1778410800-1778428800@www.linwoodcountryclub.com
SUMMARY:Mother's Day Brunch
DESCRIPTION:Our annual Mother’s Day Brunch is a great way to celebrate the mom in your life! Brunch buffet seatings are available at 11am and 2pm. Reservations are required\, so call to reserve your table today! (609) 927-6134
URL:https://www.linwoodcountryclub.com/event/mothers-day-brunch-2/
LOCATION:Linwood Country Club\, 500 Shore Road\, Linwood\, NJ\, 08221\, United States
CATEGORIES:Restaurant
END:VEVENT
BEGIN:VEVENT
DTSTART;TZID=UTC:20260511T170000
DTEND;TZID=UTC:20260511T210000
DTSTAMP:20260421T023311
CREATED:20250219T180156Z
LAST-MODIFIED:20260416T153827Z
UID:10000022-1778518800-1778533200@www.linwoodcountryclub.com
SUMMARY:Couples 9 & Dine
DESCRIPTION:Save the date! More info to come! \nNOTE: Golf events are open to members only.
URL:https://www.linwoodcountryclub.com/event/couples-9-dine/
CATEGORIES:Golf
ATTACH;FMTTYPE=image/jpeg:https://www.linwoodcountryclub.com/wp-content/uploads/2022/05/Couples-9-and-dine-website.jpg
END:VEVENT
BEGIN:VEVENT
DTSTART;TZID=UTC:20260517T110000
DTEND;TZID=UTC:20260517T150000
DTSTAMP:20260421T023311
CREATED:20250219T173429Z
LAST-MODIFIED:20260414T143619Z
UID:10000021-1779015600-1779030000@www.linwoodcountryclub.com
SUMMARY:XXIO Demo Day
DESCRIPTION:XXIO is different. XXIO designs the head\, shaft and grip for each club as a cohesive unit for Women and Senior golfers. This produces unique golf clubs that are exceptionally easy to swing\, which launch the ball higher and farther. See for yourself how the engineering of XXIO can give you more distance compared to the product in your bag.
URL:https://www.linwoodcountryclub.com/event/xxio-demo-day-3/
CATEGORIES:demo day,Golf
ATTACH;FMTTYPE=image/png:https://www.linwoodcountryclub.com/wp-content/uploads/2025/02/xxio.png
END:VEVENT
BEGIN:VEVENT
DTSTART;TZID=UTC:20260519T170000
DTEND;TZID=UTC:20260519T200000
DTSTAMP:20260421T023311
CREATED:20260414T144651Z
LAST-MODIFIED:20260414T144706Z
UID:10000519-1779210000-1779220800@www.linwoodcountryclub.com
SUMMARY:Men's League - 1st Session Begins
DESCRIPTION:The men’s league is a nine-hole match play competition with fellow members within handicapped flights. There is a shotgun start on Tuesdays at 5:15pm for five consecutive weeks. There are three sessions continuing May through August. Prior to the begin date in May\, we hold Spring Training Sessions on Tuesdays as a warmup. \nPlease see the Pro Shop for information.
URL:https://www.linwoodcountryclub.com/event/mens-league-first/
CATEGORIES:Golf
ATTACH;FMTTYPE=image/jpeg:https://www.linwoodcountryclub.com/wp-content/uploads/2020/04/Explore-Linwood-Golf-Course.jpeg
END:VEVENT
BEGIN:VEVENT
DTSTART;TZID=UTC:20260522T100000
DTEND;TZID=UTC:20260522T140000
DTSTAMP:20260421T023311
CREATED:20250219T171343Z
LAST-MODIFIED:20260416T154002Z
UID:10000015-1779444000-1779458400@www.linwoodcountryclub.com
SUMMARY:Ping Demo Day
DESCRIPTION:Plan ahead and mark your calendars to update your equipment. As we near the date\, members will be sent an appointment link to set up your fitting appointment. Although walkups will be welcomed\, it will be best to make an appointment to have the undivided attention of the technician handling the fitting. \nNOTE: Golf events are open to members only.
URL:https://www.linwoodcountryclub.com/event/ping-demo-day/
CATEGORIES:demo day,Golf
ATTACH;FMTTYPE=image/jpeg:https://www.linwoodcountryclub.com/wp-content/uploads/2025/02/Ping-logo-copy.jpg
END:VEVENT
BEGIN:VEVENT
DTSTART;VALUE=DATE:20260530
DTEND;VALUE=DATE:20260531
DTSTAMP:20260421T023311
CREATED:20250327T155653Z
LAST-MODIFIED:20260414T143853Z
UID:10000231-1780099200-1780185599@www.linwoodcountryclub.com
SUMMARY:Opening Day Scramble
DESCRIPTION:Open to all members! Please visit the pro shop for sign up and more info!
URL:https://www.linwoodcountryclub.com/event/opening-day-scramble/
CATEGORIES:Golf
ATTACH;FMTTYPE=image/jpeg:https://www.linwoodcountryclub.com/wp-content/uploads/2020/04/Golf-1.jpg
END:VEVENT
BEGIN:VEVENT
DTSTART;VALUE=DATE:20260611
DTEND;VALUE=DATE:20260613
DTSTAMP:20260421T023311
CREATED:20250327T160051Z
LAST-MODIFIED:20260416T153950Z
UID:10000232-1781136000-1781308799@www.linwoodcountryclub.com
SUMMARY:Men's Member Guest
DESCRIPTION:Save the date! More info to come! \nNOTE: Golf events are open to members only.
URL:https://www.linwoodcountryclub.com/event/mens-member-guest/
CATEGORIES:Golf
ATTACH;FMTTYPE=image/jpeg:https://www.linwoodcountryclub.com/wp-content/uploads/2020/04/memberships.jpg
END:VEVENT
BEGIN:VEVENT
DTSTART;TZID=UTC:20260615T170000
DTEND;TZID=UTC:20260615T210000
DTSTAMP:20260421T023311
CREATED:20250219T180246Z
LAST-MODIFIED:20260416T153937Z
UID:10000023-1781542800-1781557200@www.linwoodcountryclub.com
SUMMARY:Ladies' 9 & Dine
DESCRIPTION:Open to members. Please see the pro shop for more information and to sign up! \nNOTE: Golf events are open to members only.
URL:https://www.linwoodcountryclub.com/event/ladies-9-dine-hit-giggle/
CATEGORIES:Golf
ATTACH;FMTTYPE=image/webp:https://www.linwoodcountryclub.com/wp-content/uploads/2025/02/woman-golfing.webp
END:VEVENT
END:VCALENDAR