BEGIN:VCALENDAR
VERSION:2.0
PRODID:-//Linwood Country Club - ECPv6.15.20//NONSGML v1.0//EN
CALSCALE:GREGORIAN
METHOD:PUBLISH
X-WR-CALNAME:Linwood Country Club
X-ORIGINAL-URL:https://www.linwoodcountryclub.com
X-WR-CALDESC:Events for Linwood Country Club
REFRESH-INTERVAL;VALUE=DURATION:PT1H
X-Robots-Tag:noindex
X-PUBLISHED-TTL:PT1H
BEGIN:VTIMEZONE
TZID:UTC
BEGIN:STANDARD
TZOFFSETFROM:+0000
TZOFFSETTO:+0000
TZNAME:UTC
DTSTART:20240101T000000
END:STANDARD
END:VTIMEZONE
BEGIN:VEVENT
DTSTART;TZID=UTC:20250320T150000
DTEND;TZID=UTC:20250320T180000
DTSTAMP:20260421T155032
CREATED:20241208T191839Z
LAST-MODIFIED:20250327T160002Z
UID:10000028-1742482800-1742493600@www.linwoodcountryclub.com
SUMMARY:Takeout Thursdays | March
DESCRIPTION:Let us do the cooking on Thursdays! Less dirty dishes\, grocery lists\, and time in the kitchen and more relaxing and spending time with the family. Call now to place your order 609-927-6134. *CLICK ON IMAGE FOR MORE INFORMATION*
URL:https://www.linwoodcountryclub.com/event/takeout-thursdays-january/2025-03-20/
CATEGORIES:Restaurant
ATTACH;FMTTYPE=image/jpeg:https://www.linwoodcountryclub.com/wp-content/uploads/2024/12/Takeout-Thursday.jpg
END:VEVENT
BEGIN:VEVENT
DTSTART;TZID=UTC:20250314T120000
DTEND;TZID=UTC:20250316T210000
DTSTAMP:20260421T155032
CREATED:20250303T122029Z
LAST-MODIFIED:20250303T123206Z
UID:10000026-1741953600-1742158800@www.linwoodcountryclub.com
SUMMARY:St. Patrick's Weekend
DESCRIPTION:Celebrate St. Patrick’s Day all weekend with Irish menu additions\, $4 Guinness and $8 Irish whiskey! The regular menu will also be available. Click image to view menu additions.
URL:https://www.linwoodcountryclub.com/event/st-patricks-weekend/
CATEGORIES:Restaurant
ATTACH;FMTTYPE=image/jpeg:https://www.linwoodcountryclub.com/wp-content/uploads/2024/12/Website-Image-copy.jpg
END:VEVENT
BEGIN:VEVENT
DTSTART;TZID=UTC:20250313T150000
DTEND;TZID=UTC:20250313T180000
DTSTAMP:20260421T155032
CREATED:20241208T191839Z
LAST-MODIFIED:20250327T160002Z
UID:10000027-1741878000-1741888800@www.linwoodcountryclub.com
SUMMARY:Takeout Thursdays | March
DESCRIPTION:Let us do the cooking on Thursdays! Less dirty dishes\, grocery lists\, and time in the kitchen and more relaxing and spending time with the family. Call now to place your order 609-927-6134. *CLICK ON IMAGE FOR MORE INFORMATION*
URL:https://www.linwoodcountryclub.com/event/takeout-thursdays-january/2025-03-13/
CATEGORIES:Restaurant
ATTACH;FMTTYPE=image/jpeg:https://www.linwoodcountryclub.com/wp-content/uploads/2024/12/Takeout-Thursday.jpg
END:VEVENT
BEGIN:VEVENT
DTSTART;TZID=UTC:20250306T150000
DTEND;TZID=UTC:20250306T180000
DTSTAMP:20260421T155032
CREATED:20241208T191839Z
LAST-MODIFIED:20250327T160002Z
UID:10000011-1741273200-1741284000@www.linwoodcountryclub.com
SUMMARY:Takeout Thursdays | March
DESCRIPTION:Let us do the cooking on Thursdays! Less dirty dishes\, grocery lists\, and time in the kitchen and more relaxing and spending time with the family. Call now to place your order 609-927-6134. *CLICK ON IMAGE FOR MORE INFORMATION*
URL:https://www.linwoodcountryclub.com/event/takeout-thursdays-january/2025-03-06/
CATEGORIES:Restaurant
ATTACH;FMTTYPE=image/jpeg:https://www.linwoodcountryclub.com/wp-content/uploads/2024/12/Takeout-Thursday.jpg
END:VEVENT
END:VCALENDAR