BEGIN:VCALENDAR
VERSION:2.0
PRODID:-//Linwood Country Club - ECPv6.15.20//NONSGML v1.0//EN
CALSCALE:GREGORIAN
METHOD:PUBLISH
X-WR-CALNAME:Linwood Country Club
X-ORIGINAL-URL:https://www.linwoodcountryclub.com
X-WR-CALDESC:Events for Linwood Country Club
REFRESH-INTERVAL;VALUE=DURATION:PT1H
X-Robots-Tag:noindex
X-PUBLISHED-TTL:PT1H
BEGIN:VTIMEZONE
TZID:UTC
BEGIN:STANDARD
TZOFFSETFROM:+0000
TZOFFSETTO:+0000
TZNAME:UTC
DTSTART:20240101T000000
END:STANDARD
END:VTIMEZONE
BEGIN:VTIMEZONE
TZID:America/New_York
BEGIN:DAYLIGHT
TZOFFSETFROM:-0500
TZOFFSETTO:-0400
TZNAME:EDT
DTSTART:20240310T070000
END:DAYLIGHT
BEGIN:STANDARD
TZOFFSETFROM:-0400
TZOFFSETTO:-0500
TZNAME:EST
DTSTART:20241103T060000
END:STANDARD
BEGIN:DAYLIGHT
TZOFFSETFROM:-0500
TZOFFSETTO:-0400
TZNAME:EDT
DTSTART:20250309T070000
END:DAYLIGHT
BEGIN:STANDARD
TZOFFSETFROM:-0400
TZOFFSETTO:-0500
TZNAME:EST
DTSTART:20251102T060000
END:STANDARD
BEGIN:DAYLIGHT
TZOFFSETFROM:-0500
TZOFFSETTO:-0400
TZNAME:EDT
DTSTART:20260308T070000
END:DAYLIGHT
BEGIN:STANDARD
TZOFFSETFROM:-0400
TZOFFSETTO:-0500
TZNAME:EST
DTSTART:20261101T060000
END:STANDARD
END:VTIMEZONE
BEGIN:VEVENT
DTSTART;TZID=UTC:20251028T150000
DTEND;TZID=UTC:20251028T180000
DTSTAMP:20260420T210837
CREATED:20250930T181028Z
LAST-MODIFIED:20250930T181200Z
UID:10000447-1761663600-1761674400@www.linwoodcountryclub.com
SUMMARY:Takeout Tuesday - October
DESCRIPTION:Every Tuesday\, take home a complete family meal! These weekly meals are available in full size (or 6-8 people) or half size (3-4 people). \nTo order\, please call (609) 927 – 6134 or email office@linwoodcountryclub.com. Orders must be placed by 1pm on the day of pickup. \nOCTOBER MENU\n10/7 – Beef Chili – White Rice\, Corn Bread\, Chopped Salad \n10/14 – Chicken Cacciatore – Peppers & Potatoes\, Green Beans\, Caesar Salad \n10/21 – Shrimp Carbonara – Peas & Prosciutto\, Penne\, Broccoli\, Garden Salad \n10/28 – Rigatoni Bolognese – Parmesan Squash\, Arugula Salad
URL:https://www.linwoodcountryclub.com/event/takeout-tuesday-october/2025-10-28/
ATTACH;FMTTYPE=image/jpeg:https://www.linwoodcountryclub.com/wp-content/uploads/2024/09/Takeout-Tuesday.jpg
END:VEVENT
BEGIN:VEVENT
DTSTART;TZID=UTC:20251021T150000
DTEND;TZID=UTC:20251021T180000
DTSTAMP:20260420T210837
CREATED:20250930T181028Z
LAST-MODIFIED:20250930T181200Z
UID:10000446-1761058800-1761069600@www.linwoodcountryclub.com
SUMMARY:Takeout Tuesday - October
DESCRIPTION:Every Tuesday\, take home a complete family meal! These weekly meals are available in full size (or 6-8 people) or half size (3-4 people). \nTo order\, please call (609) 927 – 6134 or email office@linwoodcountryclub.com. Orders must be placed by 1pm on the day of pickup. \nOCTOBER MENU\n10/7 – Beef Chili – White Rice\, Corn Bread\, Chopped Salad \n10/14 – Chicken Cacciatore – Peppers & Potatoes\, Green Beans\, Caesar Salad \n10/21 – Shrimp Carbonara – Peas & Prosciutto\, Penne\, Broccoli\, Garden Salad \n10/28 – Rigatoni Bolognese – Parmesan Squash\, Arugula Salad
URL:https://www.linwoodcountryclub.com/event/takeout-tuesday-october/2025-10-21/
ATTACH;FMTTYPE=image/jpeg:https://www.linwoodcountryclub.com/wp-content/uploads/2024/09/Takeout-Tuesday.jpg
END:VEVENT
BEGIN:VEVENT
DTSTART;TZID=UTC:20251014T150000
DTEND;TZID=UTC:20251014T180000
DTSTAMP:20260420T210837
CREATED:20250930T181028Z
LAST-MODIFIED:20250930T181200Z
UID:10000445-1760454000-1760464800@www.linwoodcountryclub.com
SUMMARY:Takeout Tuesday - October
DESCRIPTION:Every Tuesday\, take home a complete family meal! These weekly meals are available in full size (or 6-8 people) or half size (3-4 people). \nTo order\, please call (609) 927 – 6134 or email office@linwoodcountryclub.com. Orders must be placed by 1pm on the day of pickup. \nOCTOBER MENU\n10/7 – Beef Chili – White Rice\, Corn Bread\, Chopped Salad \n10/14 – Chicken Cacciatore – Peppers & Potatoes\, Green Beans\, Caesar Salad \n10/21 – Shrimp Carbonara – Peas & Prosciutto\, Penne\, Broccoli\, Garden Salad \n10/28 – Rigatoni Bolognese – Parmesan Squash\, Arugula Salad
URL:https://www.linwoodcountryclub.com/event/takeout-tuesday-october/2025-10-14/
ATTACH;FMTTYPE=image/jpeg:https://www.linwoodcountryclub.com/wp-content/uploads/2024/09/Takeout-Tuesday.jpg
END:VEVENT
BEGIN:VEVENT
DTSTART;TZID=UTC:20251012T110000
DTEND;TZID=UTC:20251012T140000
DTSTAMP:20260420T210837
CREATED:20250923T184452Z
LAST-MODIFIED:20251009T172321Z
UID:10000443-1760266800-1760277600@www.linwoodcountryclub.com
SUMMARY:Fall Fest - Cancelled
DESCRIPTION:2025 FALL FEST IS CANCELLED DUE TO WEATHER
URL:https://www.linwoodcountryclub.com/event/fall-fest/
ATTACH;FMTTYPE=image/jpeg:https://www.linwoodcountryclub.com/wp-content/uploads/2025/09/Header-copy.jpg
END:VEVENT
BEGIN:VEVENT
DTSTART;TZID=UTC:20251007T150000
DTEND;TZID=UTC:20251007T180000
DTSTAMP:20260420T210837
CREATED:20250930T181028Z
LAST-MODIFIED:20250930T181200Z
UID:10000444-1759849200-1759860000@www.linwoodcountryclub.com
SUMMARY:Takeout Tuesday - October
DESCRIPTION:Every Tuesday\, take home a complete family meal! These weekly meals are available in full size (or 6-8 people) or half size (3-4 people). \nTo order\, please call (609) 927 – 6134 or email office@linwoodcountryclub.com. Orders must be placed by 1pm on the day of pickup. \nOCTOBER MENU\n10/7 – Beef Chili – White Rice\, Corn Bread\, Chopped Salad \n10/14 – Chicken Cacciatore – Peppers & Potatoes\, Green Beans\, Caesar Salad \n10/21 – Shrimp Carbonara – Peas & Prosciutto\, Penne\, Broccoli\, Garden Salad \n10/28 – Rigatoni Bolognese – Parmesan Squash\, Arugula Salad
URL:https://www.linwoodcountryclub.com/event/takeout-tuesday-october/2025-10-07/
ATTACH;FMTTYPE=image/jpeg:https://www.linwoodcountryclub.com/wp-content/uploads/2024/09/Takeout-Tuesday.jpg
END:VEVENT
BEGIN:VEVENT
DTSTART;TZID=UTC:20250930T171500
DTEND;TZID=UTC:20250930T210000
DTSTAMP:20260420T210837
CREATED:20250312T181508Z
LAST-MODIFIED:20250312T181508Z
UID:10000160-1759252500-1759266000@www.linwoodcountryclub.com
SUMMARY:Men's League Fall Ball
DESCRIPTION:The men’s league is a nine-hole match play competition with fellow members within handicapped flights. Dinner will follow with golf and camaraderie. The men’s league is perfect for all men looking to enjoy some friendly competition and have the opportunity to meet new members of the club. \nThere is a shotgun start on Tuesdays at 5:15pm for five consecutive weeks. There are three sessions continuing May through August. Prior to the begin date in May\, we hold Spring Training Sessions on Tuesdays as a warmup. In the Fall\, we continue competitions on Tuesday nights for as long as weather permits.
URL:https://www.linwoodcountryclub.com/event/mens-league-fall-ball/2025-09-30/
CATEGORIES:Golf
END:VEVENT
BEGIN:VEVENT
DTSTART;TZID=America/New_York:20250930T150000
DTEND;TZID=America/New_York:20250930T180000
DTSTAMP:20260420T210837
CREATED:20250825T202656Z
LAST-MODIFIED:20250825T202656Z
UID:10000442-1759244400-1759255200@www.linwoodcountryclub.com
SUMMARY:Takeout Tuesday - September
DESCRIPTION:Every Tuesday\, take home a complete family meal! These weekly meals are available in full size (or 6-8 people) or half size (3-4 people). \nTo order\, please call (609) 927 – 6134 or email office@linwoodcountryclub.com. Orders must be placed by 1pm on the day of pickup. \nSEPTEMBER MENU\n9/2 – Chicken Marsala – Roasted Potatoes\, Broccolini\, Arugula Salad \n9/9 – Cheese Ravioli – Meatballs & Sausage\, Green Beans\, Caesar Salad \n9/16 – Shrimp Scampi – Penne with Spinach and Tomatoes\, Chopped Salad \n9/23 – Beef Stroganoff – Rigatoni\, Broccoli\, Garden Salad \n9/30 – Chicken Parmesan – Penne\, Roasted Squash\, Caesar Salad
URL:https://www.linwoodcountryclub.com/event/takeout-tuesday-september/2025-09-30/
LOCATION:Linwood Country Club\, 500 Shore Road\, Linwood\, NJ\, 08221\, United States
CATEGORIES:Restaurant
ATTACH;FMTTYPE=image/jpeg:https://www.linwoodcountryclub.com/wp-content/uploads/2024/09/Takeout-Tuesday.jpg
END:VEVENT
BEGIN:VEVENT
DTSTART;TZID=UTC:20250923T171500
DTEND;TZID=UTC:20250923T210000
DTSTAMP:20260420T210837
CREATED:20250312T181508Z
LAST-MODIFIED:20250312T181508Z
UID:10000159-1758647700-1758661200@www.linwoodcountryclub.com
SUMMARY:Men's League Fall Ball
DESCRIPTION:The men’s league is a nine-hole match play competition with fellow members within handicapped flights. Dinner will follow with golf and camaraderie. The men’s league is perfect for all men looking to enjoy some friendly competition and have the opportunity to meet new members of the club. \nThere is a shotgun start on Tuesdays at 5:15pm for five consecutive weeks. There are three sessions continuing May through August. Prior to the begin date in May\, we hold Spring Training Sessions on Tuesdays as a warmup. In the Fall\, we continue competitions on Tuesday nights for as long as weather permits.
URL:https://www.linwoodcountryclub.com/event/mens-league-fall-ball/2025-09-23/
CATEGORIES:Golf
END:VEVENT
BEGIN:VEVENT
DTSTART;TZID=America/New_York:20250923T150000
DTEND;TZID=America/New_York:20250923T180000
DTSTAMP:20260420T210837
CREATED:20250825T202656Z
LAST-MODIFIED:20250825T202656Z
UID:10000441-1758639600-1758650400@www.linwoodcountryclub.com
SUMMARY:Takeout Tuesday - September
DESCRIPTION:Every Tuesday\, take home a complete family meal! These weekly meals are available in full size (or 6-8 people) or half size (3-4 people). \nTo order\, please call (609) 927 – 6134 or email office@linwoodcountryclub.com. Orders must be placed by 1pm on the day of pickup. \nSEPTEMBER MENU\n9/2 – Chicken Marsala – Roasted Potatoes\, Broccolini\, Arugula Salad \n9/9 – Cheese Ravioli – Meatballs & Sausage\, Green Beans\, Caesar Salad \n9/16 – Shrimp Scampi – Penne with Spinach and Tomatoes\, Chopped Salad \n9/23 – Beef Stroganoff – Rigatoni\, Broccoli\, Garden Salad \n9/30 – Chicken Parmesan – Penne\, Roasted Squash\, Caesar Salad
URL:https://www.linwoodcountryclub.com/event/takeout-tuesday-september/2025-09-23/
LOCATION:Linwood Country Club\, 500 Shore Road\, Linwood\, NJ\, 08221\, United States
CATEGORIES:Restaurant
ATTACH;FMTTYPE=image/jpeg:https://www.linwoodcountryclub.com/wp-content/uploads/2024/09/Takeout-Tuesday.jpg
END:VEVENT
BEGIN:VEVENT
DTSTART;TZID=UTC:20250917T090000
DTEND;TZID=UTC:20250917T120000
DTSTAMP:20260420T210837
CREATED:20250312T181625Z
LAST-MODIFIED:20250912T182401Z
UID:10000180-1758099600-1758110400@www.linwoodcountryclub.com
SUMMARY:Women's Golf Association
DESCRIPTION:Every Wednesday at 9:00am\, the Women’s Golf Association has an eighteen hole competition with various formats. Following golf there is a lunch and results for the day’s competition.
URL:https://www.linwoodcountryclub.com/event/womens-golf-association/2025-09-17/
CATEGORIES:Golf
END:VEVENT
BEGIN:VEVENT
DTSTART;TZID=UTC:20250916T171500
DTEND;TZID=UTC:20250916T210000
DTSTAMP:20260420T210837
CREATED:20250312T181508Z
LAST-MODIFIED:20250312T181508Z
UID:10000158-1758042900-1758056400@www.linwoodcountryclub.com
SUMMARY:Men's League Fall Ball
DESCRIPTION:The men’s league is a nine-hole match play competition with fellow members within handicapped flights. Dinner will follow with golf and camaraderie. The men’s league is perfect for all men looking to enjoy some friendly competition and have the opportunity to meet new members of the club. \nThere is a shotgun start on Tuesdays at 5:15pm for five consecutive weeks. There are three sessions continuing May through August. Prior to the begin date in May\, we hold Spring Training Sessions on Tuesdays as a warmup. In the Fall\, we continue competitions on Tuesday nights for as long as weather permits.
URL:https://www.linwoodcountryclub.com/event/mens-league-fall-ball/2025-09-16/
CATEGORIES:Golf
END:VEVENT
BEGIN:VEVENT
DTSTART;TZID=America/New_York:20250916T150000
DTEND;TZID=America/New_York:20250916T180000
DTSTAMP:20260420T210837
CREATED:20250825T202656Z
LAST-MODIFIED:20250825T202656Z
UID:10000440-1758034800-1758045600@www.linwoodcountryclub.com
SUMMARY:Takeout Tuesday - September
DESCRIPTION:Every Tuesday\, take home a complete family meal! These weekly meals are available in full size (or 6-8 people) or half size (3-4 people). \nTo order\, please call (609) 927 – 6134 or email office@linwoodcountryclub.com. Orders must be placed by 1pm on the day of pickup. \nSEPTEMBER MENU\n9/2 – Chicken Marsala – Roasted Potatoes\, Broccolini\, Arugula Salad \n9/9 – Cheese Ravioli – Meatballs & Sausage\, Green Beans\, Caesar Salad \n9/16 – Shrimp Scampi – Penne with Spinach and Tomatoes\, Chopped Salad \n9/23 – Beef Stroganoff – Rigatoni\, Broccoli\, Garden Salad \n9/30 – Chicken Parmesan – Penne\, Roasted Squash\, Caesar Salad
URL:https://www.linwoodcountryclub.com/event/takeout-tuesday-september/2025-09-16/
LOCATION:Linwood Country Club\, 500 Shore Road\, Linwood\, NJ\, 08221\, United States
CATEGORIES:Restaurant
ATTACH;FMTTYPE=image/jpeg:https://www.linwoodcountryclub.com/wp-content/uploads/2024/09/Takeout-Tuesday.jpg
END:VEVENT
BEGIN:VEVENT
DTSTART;TZID=UTC:20250910T090000
DTEND;TZID=UTC:20250910T120000
DTSTAMP:20260420T210837
CREATED:20250312T181625Z
LAST-MODIFIED:20250912T182401Z
UID:10000179-1757494800-1757505600@www.linwoodcountryclub.com
SUMMARY:Women's Golf Association
DESCRIPTION:Every Wednesday at 9:00am\, the Women’s Golf Association has an eighteen hole competition with various formats. Following golf there is a lunch and results for the day’s competition.
URL:https://www.linwoodcountryclub.com/event/womens-golf-association/2025-09-10/
CATEGORIES:Golf
END:VEVENT
BEGIN:VEVENT
DTSTART;TZID=UTC:20250909T171500
DTEND;TZID=UTC:20250909T210000
DTSTAMP:20260420T210837
CREATED:20250312T181508Z
LAST-MODIFIED:20250312T181508Z
UID:10000157-1757438100-1757451600@www.linwoodcountryclub.com
SUMMARY:Men's League Fall Ball
DESCRIPTION:The men’s league is a nine-hole match play competition with fellow members within handicapped flights. Dinner will follow with golf and camaraderie. The men’s league is perfect for all men looking to enjoy some friendly competition and have the opportunity to meet new members of the club. \nThere is a shotgun start on Tuesdays at 5:15pm for five consecutive weeks. There are three sessions continuing May through August. Prior to the begin date in May\, we hold Spring Training Sessions on Tuesdays as a warmup. In the Fall\, we continue competitions on Tuesday nights for as long as weather permits.
URL:https://www.linwoodcountryclub.com/event/mens-league-fall-ball/2025-09-09/
CATEGORIES:Golf
END:VEVENT
BEGIN:VEVENT
DTSTART;TZID=America/New_York:20250909T150000
DTEND;TZID=America/New_York:20250909T180000
DTSTAMP:20260420T210837
CREATED:20250825T202656Z
LAST-MODIFIED:20250825T202656Z
UID:10000439-1757430000-1757440800@www.linwoodcountryclub.com
SUMMARY:Takeout Tuesday - September
DESCRIPTION:Every Tuesday\, take home a complete family meal! These weekly meals are available in full size (or 6-8 people) or half size (3-4 people). \nTo order\, please call (609) 927 – 6134 or email office@linwoodcountryclub.com. Orders must be placed by 1pm on the day of pickup. \nSEPTEMBER MENU\n9/2 – Chicken Marsala – Roasted Potatoes\, Broccolini\, Arugula Salad \n9/9 – Cheese Ravioli – Meatballs & Sausage\, Green Beans\, Caesar Salad \n9/16 – Shrimp Scampi – Penne with Spinach and Tomatoes\, Chopped Salad \n9/23 – Beef Stroganoff – Rigatoni\, Broccoli\, Garden Salad \n9/30 – Chicken Parmesan – Penne\, Roasted Squash\, Caesar Salad
URL:https://www.linwoodcountryclub.com/event/takeout-tuesday-september/2025-09-09/
LOCATION:Linwood Country Club\, 500 Shore Road\, Linwood\, NJ\, 08221\, United States
CATEGORIES:Restaurant
ATTACH;FMTTYPE=image/jpeg:https://www.linwoodcountryclub.com/wp-content/uploads/2024/09/Takeout-Tuesday.jpg
END:VEVENT
BEGIN:VEVENT
DTSTART;TZID=UTC:20250903T170000
DTEND;TZID=UTC:20250903T190000
DTSTAMP:20260420T210837
CREATED:20250327T161115Z
LAST-MODIFIED:20250620T155124Z
UID:10000280-1756918800-1756926000@www.linwoodcountryclub.com
SUMMARY:Paint & Sip
DESCRIPTION:Try your hand at something new! Each ticket includes all supplies\, live instruction\, a glass of wine or beer and charcuterie. Seating is limited\, so we recommend purchasing your ticket in advance. Purchase your ticket online at https://www.foxdenlcc.com/paint-sip \nSummer 2025 Paint & Sip dates include: \n\nJune 25\nJuly 9\nJuly 23\nAugust 6\nAugust 20\nSeptember 3\n\nVisit The Fox Den website for more details and ticket purchase: https://www.foxdenlcc.com/paint-sip
URL:https://www.linwoodcountryclub.com/event/paint-sip/2025-09-03/
LOCATION:The Fox Den\, 500 Shore Road\, Linwood\, NJ\, 08221\, United States
CATEGORIES:Fox Den
ATTACH;FMTTYPE=image/jpeg:https://www.linwoodcountryclub.com/wp-content/uploads/2024/07/Paint-and-Sip-v3.jpg
END:VEVENT
BEGIN:VEVENT
DTSTART;TZID=UTC:20250903T090000
DTEND;TZID=UTC:20250903T120000
DTSTAMP:20260420T210837
CREATED:20250312T181625Z
LAST-MODIFIED:20250912T182401Z
UID:10000178-1756890000-1756900800@www.linwoodcountryclub.com
SUMMARY:Women's Golf Association
DESCRIPTION:Every Wednesday at 9:00am\, the Women’s Golf Association has an eighteen hole competition with various formats. Following golf there is a lunch and results for the day’s competition.
URL:https://www.linwoodcountryclub.com/event/womens-golf-association/2025-09-03/
CATEGORIES:Golf
END:VEVENT
BEGIN:VEVENT
DTSTART;TZID=UTC:20250902T171500
DTEND;TZID=UTC:20250902T210000
DTSTAMP:20260420T210837
CREATED:20250312T181508Z
LAST-MODIFIED:20250312T181508Z
UID:10000156-1756833300-1756846800@www.linwoodcountryclub.com
SUMMARY:Men's League Fall Ball
DESCRIPTION:The men’s league is a nine-hole match play competition with fellow members within handicapped flights. Dinner will follow with golf and camaraderie. The men’s league is perfect for all men looking to enjoy some friendly competition and have the opportunity to meet new members of the club. \nThere is a shotgun start on Tuesdays at 5:15pm for five consecutive weeks. There are three sessions continuing May through August. Prior to the begin date in May\, we hold Spring Training Sessions on Tuesdays as a warmup. In the Fall\, we continue competitions on Tuesday nights for as long as weather permits.
URL:https://www.linwoodcountryclub.com/event/mens-league-fall-ball/2025-09-02/
CATEGORIES:Golf
END:VEVENT
BEGIN:VEVENT
DTSTART;TZID=America/New_York:20250902T150000
DTEND;TZID=America/New_York:20250902T180000
DTSTAMP:20260420T210837
CREATED:20250825T202656Z
LAST-MODIFIED:20250825T202656Z
UID:10000438-1756825200-1756836000@www.linwoodcountryclub.com
SUMMARY:Takeout Tuesday - September
DESCRIPTION:Every Tuesday\, take home a complete family meal! These weekly meals are available in full size (or 6-8 people) or half size (3-4 people). \nTo order\, please call (609) 927 – 6134 or email office@linwoodcountryclub.com. Orders must be placed by 1pm on the day of pickup. \nSEPTEMBER MENU\n9/2 – Chicken Marsala – Roasted Potatoes\, Broccolini\, Arugula Salad \n9/9 – Cheese Ravioli – Meatballs & Sausage\, Green Beans\, Caesar Salad \n9/16 – Shrimp Scampi – Penne with Spinach and Tomatoes\, Chopped Salad \n9/23 – Beef Stroganoff – Rigatoni\, Broccoli\, Garden Salad \n9/30 – Chicken Parmesan – Penne\, Roasted Squash\, Caesar Salad
URL:https://www.linwoodcountryclub.com/event/takeout-tuesday-september/2025-09-02/
LOCATION:Linwood Country Club\, 500 Shore Road\, Linwood\, NJ\, 08221\, United States
CATEGORIES:Restaurant
ATTACH;FMTTYPE=image/jpeg:https://www.linwoodcountryclub.com/wp-content/uploads/2024/09/Takeout-Tuesday.jpg
END:VEVENT
BEGIN:VEVENT
DTSTART;TZID=UTC:20250828T170000
DTEND;TZID=UTC:20250828T190000
DTSTAMP:20260420T210837
CREATED:20250703T145604Z
LAST-MODIFIED:20250703T150148Z
UID:10000422-1756400400-1756407600@www.linwoodcountryclub.com
SUMMARY:Swing & A Sip
DESCRIPTION:Swing & Sip – A Ladies’ Night on the Green!Ready to mix a little wine with your wedge? Join us for Swing & Sip\, a fun and relaxed beginner clinic just for the ladies! \n1-hour golf lesson⛳ Play 3 holesEnjoy 3 glasses of winePlus tasty hors d’oeuvres \nWhether you’re new to the game or just here for the good times\, it’s the perfect way to spend an evening! \nMember Price: $55 | Non-Member Price: $65Call 609-927-7374 to reserve your spot! Sign-ups begin one week in advance
URL:https://www.linwoodcountryclub.com/event/swing-a-sip-2-2/2025-08-28/
CATEGORIES:Fox Den
ATTACH;FMTTYPE=image/jpeg:https://www.linwoodcountryclub.com/wp-content/uploads/2022/06/Swing-and-Sip-Newsletter.jpg
END:VEVENT
BEGIN:VEVENT
DTSTART;TZID=UTC:20250827T090000
DTEND;TZID=UTC:20250827T120000
DTSTAMP:20260420T210837
CREATED:20250312T181625Z
LAST-MODIFIED:20250912T182401Z
UID:10000177-1756285200-1756296000@www.linwoodcountryclub.com
SUMMARY:Women's Golf Association
DESCRIPTION:Every Wednesday at 9:00am\, the Women’s Golf Association has an eighteen hole competition with various formats. Following golf there is a lunch and results for the day’s competition.
URL:https://www.linwoodcountryclub.com/event/womens-golf-association/2025-08-27/
CATEGORIES:Golf
END:VEVENT
BEGIN:VEVENT
DTSTART;TZID=UTC:20250826T171500
DTEND;TZID=UTC:20250826T210000
DTSTAMP:20260420T210837
CREATED:20250312T181419Z
LAST-MODIFIED:20250312T182120Z
UID:10000103-1756228500-1756242000@www.linwoodcountryclub.com
SUMMARY:Men's League
DESCRIPTION:The men’s league is a nine-hole match play competition with fellow members within handicapped flights. Dinner will follow with golf and camaraderie. The men’s league is perfect for all men looking to enjoy some friendly competition and have the opportunity to meet new members of the club. \nThere is a shotgun start on Tuesdays at 5:15pm for five consecutive weeks. There are three sessions continuing May through August. Prior to the begin date in May\, we hold Spring Training Sessions on Tuesdays as a warmup. In the Fall\, we continue competitions on Tuesday nights for as long as weather permits.
URL:https://www.linwoodcountryclub.com/event/mens-league/2025-08-26/
CATEGORIES:Golf
END:VEVENT
BEGIN:VEVENT
DTSTART;TZID=America/New_York:20250826T150000
DTEND;TZID=America/New_York:20250826T180000
DTSTAMP:20260420T210837
CREATED:20250730T175924Z
LAST-MODIFIED:20250730T181012Z
UID:10000433-1756220400-1756231200@www.linwoodcountryclub.com
SUMMARY:Takeout Tuesday - August
DESCRIPTION:Every Tuesday\, take home a complete family meal! These weekly meals are available in full size (or 6-8 people) or half size (3-4 people). \nTo order\, please call (609) 927 – 6134 or email office@linwoodcountryclub.com. Orders must be placed by 1pm on the day of pickup. \nAUGUST MENU\n8/5 – Shrimp Alfredo – Broccoli\, Penne\, Caesar Salad \n8/12 – Beef Stew – Mashed Potatoes\, Broccolini\, Chopped Salad \n8/19 – Turkey a la King – White Rice\, Arugula Salad \n8/26 – Sausage Bolognese – Rigatoni\, Green Beans\, Garden Salad
URL:https://www.linwoodcountryclub.com/event/takeout-tuesday-august/2025-08-26/
LOCATION:Linwood Country Club\, 500 Shore Road\, Linwood\, NJ\, 08221\, United States
CATEGORIES:Restaurant
ATTACH;FMTTYPE=image/jpeg:https://www.linwoodcountryclub.com/wp-content/uploads/2024/09/Takeout-Tuesday.jpg
END:VEVENT
BEGIN:VEVENT
DTSTART;TZID=UTC:20250820T170000
DTEND;TZID=UTC:20250820T190000
DTSTAMP:20260420T210837
CREATED:20250327T161115Z
LAST-MODIFIED:20250620T155124Z
UID:10000279-1755709200-1755716400@www.linwoodcountryclub.com
SUMMARY:Paint & Sip
DESCRIPTION:Try your hand at something new! Each ticket includes all supplies\, live instruction\, a glass of wine or beer and charcuterie. Seating is limited\, so we recommend purchasing your ticket in advance. Purchase your ticket online at https://www.foxdenlcc.com/paint-sip \nSummer 2025 Paint & Sip dates include: \n\nJune 25\nJuly 9\nJuly 23\nAugust 6\nAugust 20\nSeptember 3\n\nVisit The Fox Den website for more details and ticket purchase: https://www.foxdenlcc.com/paint-sip
URL:https://www.linwoodcountryclub.com/event/paint-sip/2025-08-20/
LOCATION:The Fox Den\, 500 Shore Road\, Linwood\, NJ\, 08221\, United States
CATEGORIES:Fox Den
ATTACH;FMTTYPE=image/jpeg:https://www.linwoodcountryclub.com/wp-content/uploads/2024/07/Paint-and-Sip-v3.jpg
END:VEVENT
BEGIN:VEVENT
DTSTART;TZID=UTC:20250820T090000
DTEND;TZID=UTC:20250820T120000
DTSTAMP:20260420T210837
CREATED:20250312T181625Z
LAST-MODIFIED:20250912T182401Z
UID:10000176-1755680400-1755691200@www.linwoodcountryclub.com
SUMMARY:Women's Golf Association
DESCRIPTION:Every Wednesday at 9:00am\, the Women’s Golf Association has an eighteen hole competition with various formats. Following golf there is a lunch and results for the day’s competition.
URL:https://www.linwoodcountryclub.com/event/womens-golf-association/2025-08-20/
CATEGORIES:Golf
END:VEVENT
BEGIN:VEVENT
DTSTART;TZID=UTC:20250819T171500
DTEND;TZID=UTC:20250819T210000
DTSTAMP:20260420T210837
CREATED:20250312T181419Z
LAST-MODIFIED:20250312T182120Z
UID:10000102-1755623700-1755637200@www.linwoodcountryclub.com
SUMMARY:Men's League
DESCRIPTION:The men’s league is a nine-hole match play competition with fellow members within handicapped flights. Dinner will follow with golf and camaraderie. The men’s league is perfect for all men looking to enjoy some friendly competition and have the opportunity to meet new members of the club. \nThere is a shotgun start on Tuesdays at 5:15pm for five consecutive weeks. There are three sessions continuing May through August. Prior to the begin date in May\, we hold Spring Training Sessions on Tuesdays as a warmup. In the Fall\, we continue competitions on Tuesday nights for as long as weather permits.
URL:https://www.linwoodcountryclub.com/event/mens-league/2025-08-19/
CATEGORIES:Golf
END:VEVENT
BEGIN:VEVENT
DTSTART;TZID=America/New_York:20250819T150000
DTEND;TZID=America/New_York:20250819T180000
DTSTAMP:20260420T210837
CREATED:20250730T175924Z
LAST-MODIFIED:20250730T181012Z
UID:10000432-1755615600-1755626400@www.linwoodcountryclub.com
SUMMARY:Takeout Tuesday - August
DESCRIPTION:Every Tuesday\, take home a complete family meal! These weekly meals are available in full size (or 6-8 people) or half size (3-4 people). \nTo order\, please call (609) 927 – 6134 or email office@linwoodcountryclub.com. Orders must be placed by 1pm on the day of pickup. \nAUGUST MENU\n8/5 – Shrimp Alfredo – Broccoli\, Penne\, Caesar Salad \n8/12 – Beef Stew – Mashed Potatoes\, Broccolini\, Chopped Salad \n8/19 – Turkey a la King – White Rice\, Arugula Salad \n8/26 – Sausage Bolognese – Rigatoni\, Green Beans\, Garden Salad
URL:https://www.linwoodcountryclub.com/event/takeout-tuesday-august/2025-08-19/
LOCATION:Linwood Country Club\, 500 Shore Road\, Linwood\, NJ\, 08221\, United States
CATEGORIES:Restaurant
ATTACH;FMTTYPE=image/jpeg:https://www.linwoodcountryclub.com/wp-content/uploads/2024/09/Takeout-Tuesday.jpg
END:VEVENT
BEGIN:VEVENT
DTSTART;TZID=UTC:20250814T170000
DTEND;TZID=UTC:20250814T190000
DTSTAMP:20260420T210837
CREATED:20250703T145604Z
LAST-MODIFIED:20250703T150148Z
UID:10000420-1755190800-1755198000@www.linwoodcountryclub.com
SUMMARY:Swing & A Sip
DESCRIPTION:Swing & Sip – A Ladies’ Night on the Green!Ready to mix a little wine with your wedge? Join us for Swing & Sip\, a fun and relaxed beginner clinic just for the ladies! \n1-hour golf lesson⛳ Play 3 holesEnjoy 3 glasses of winePlus tasty hors d’oeuvres \nWhether you’re new to the game or just here for the good times\, it’s the perfect way to spend an evening! \nMember Price: $55 | Non-Member Price: $65Call 609-927-7374 to reserve your spot! Sign-ups begin one week in advance
URL:https://www.linwoodcountryclub.com/event/swing-a-sip-2-2/2025-08-14/
CATEGORIES:Fox Den
ATTACH;FMTTYPE=image/jpeg:https://www.linwoodcountryclub.com/wp-content/uploads/2022/06/Swing-and-Sip-Newsletter.jpg
END:VEVENT
BEGIN:VEVENT
DTSTART;TZID=UTC:20250813T090000
DTEND;TZID=UTC:20250813T120000
DTSTAMP:20260420T210837
CREATED:20250312T181625Z
LAST-MODIFIED:20250912T182401Z
UID:10000175-1755075600-1755086400@www.linwoodcountryclub.com
SUMMARY:Women's Golf Association
DESCRIPTION:Every Wednesday at 9:00am\, the Women’s Golf Association has an eighteen hole competition with various formats. Following golf there is a lunch and results for the day’s competition.
URL:https://www.linwoodcountryclub.com/event/womens-golf-association/2025-08-13/
CATEGORIES:Golf
END:VEVENT
BEGIN:VEVENT
DTSTART;TZID=UTC:20250812T171500
DTEND;TZID=UTC:20250812T210000
DTSTAMP:20260420T210837
CREATED:20250312T181419Z
LAST-MODIFIED:20250312T182120Z
UID:10000101-1755018900-1755032400@www.linwoodcountryclub.com
SUMMARY:Men's League
DESCRIPTION:The men’s league is a nine-hole match play competition with fellow members within handicapped flights. Dinner will follow with golf and camaraderie. The men’s league is perfect for all men looking to enjoy some friendly competition and have the opportunity to meet new members of the club. \nThere is a shotgun start on Tuesdays at 5:15pm for five consecutive weeks. There are three sessions continuing May through August. Prior to the begin date in May\, we hold Spring Training Sessions on Tuesdays as a warmup. In the Fall\, we continue competitions on Tuesday nights for as long as weather permits.
URL:https://www.linwoodcountryclub.com/event/mens-league/2025-08-12/
CATEGORIES:Golf
END:VEVENT
END:VCALENDAR