BEGIN:VCALENDAR
VERSION:2.0
PRODID:-//Linwood Country Club - ECPv6.15.20//NONSGML v1.0//EN
CALSCALE:GREGORIAN
METHOD:PUBLISH
X-WR-CALNAME:Linwood Country Club
X-ORIGINAL-URL:https://www.linwoodcountryclub.com
X-WR-CALDESC:Events for Linwood Country Club
REFRESH-INTERVAL;VALUE=DURATION:PT1H
X-Robots-Tag:noindex
X-PUBLISHED-TTL:PT1H
BEGIN:VTIMEZONE
TZID:UTC
BEGIN:STANDARD
TZOFFSETFROM:+0000
TZOFFSETTO:+0000
TZNAME:UTC
DTSTART:20240101T000000
END:STANDARD
END:VTIMEZONE
BEGIN:VEVENT
DTSTART;TZID=UTC:20260226T150000
DTEND;TZID=UTC:20260226T180000
DTSTAMP:20260421T015553
CREATED:20260129T200249Z
LAST-MODIFIED:20260208T170302Z
UID:10000493-1772118000-1772128800@www.linwoodcountryclub.com
SUMMARY:Takeout Thursday
DESCRIPTION:Every Thursday\, take home a complete family meal! These weekly meals are available in full size (or 6-8 people\, $92) or half size (3-4 people\, $48). \nTo order\, please call (609) 927 – 6134 or email office@linwoodcountryclub.com. Orders must be placed by 1pm on the day of pickup. \nFEBRUARY\n2/5 – Turkey Chili – Cornbread\, Green Beans\, Arugula Salad \n2/12 – Rigatoni Bolognese – Broccoli\, Caesar Salad\, Garlic Bread \n2/19 – Shrimp Fra Diavolo –Penne\, Roasted Squash\, Chopped Salad \n2/26 – Chicken Cacciatore – Peppers\, Mushrooms & Potatoes\, Caesar Salad
URL:https://www.linwoodcountryclub.com/event/takeout-thursday-2/2026-02-26/
CATEGORIES:Restaurant
ATTACH;FMTTYPE=image/jpeg:https://www.linwoodcountryclub.com/wp-content/uploads/2021/12/Takeout-Thursday.jpg
END:VEVENT
BEGIN:VEVENT
DTSTART;TZID=UTC:20260219T150000
DTEND;TZID=UTC:20260219T180000
DTSTAMP:20260421T015553
CREATED:20260129T200249Z
LAST-MODIFIED:20260208T170302Z
UID:10000492-1771513200-1771524000@www.linwoodcountryclub.com
SUMMARY:Takeout Thursday
DESCRIPTION:Every Thursday\, take home a complete family meal! These weekly meals are available in full size (or 6-8 people\, $92) or half size (3-4 people\, $48). \nTo order\, please call (609) 927 – 6134 or email office@linwoodcountryclub.com. Orders must be placed by 1pm on the day of pickup. \nFEBRUARY\n2/5 – Turkey Chili – Cornbread\, Green Beans\, Arugula Salad \n2/12 – Rigatoni Bolognese – Broccoli\, Caesar Salad\, Garlic Bread \n2/19 – Shrimp Fra Diavolo –Penne\, Roasted Squash\, Chopped Salad \n2/26 – Chicken Cacciatore – Peppers\, Mushrooms & Potatoes\, Caesar Salad
URL:https://www.linwoodcountryclub.com/event/takeout-thursday-2/2026-02-19/
CATEGORIES:Restaurant
ATTACH;FMTTYPE=image/jpeg:https://www.linwoodcountryclub.com/wp-content/uploads/2021/12/Takeout-Thursday.jpg
END:VEVENT
BEGIN:VEVENT
DTSTART;VALUE=DATE:20260213
DTEND;VALUE=DATE:20260216
DTSTAMP:20260421T015553
CREATED:20260120T193228Z
LAST-MODIFIED:20260121T213325Z
UID:10000476-1770940800-1771199999@www.linwoodcountryclub.com
SUMMARY:Valentine's Weekend Menu Additions
DESCRIPTION:Indulge in special menu additions for the holiday weekend. Starting at 4pm on Friday\, February 13 – Sunday\, February 15\, we will have delicious additions to the regular menu. Reservations are strongly recommended. Visit Resy or call 609.927.6134
URL:https://www.linwoodcountryclub.com/event/valentines-weekend/
CATEGORIES:Restaurant
ATTACH;FMTTYPE=image/png:https://www.linwoodcountryclub.com/wp-content/uploads/2026/01/Copy-of-Valentines-Menu-2026-3-x-3-in-1.png
END:VEVENT
BEGIN:VEVENT
DTSTART;TZID=UTC:20260212T150000
DTEND;TZID=UTC:20260212T180000
DTSTAMP:20260421T015553
CREATED:20260129T200249Z
LAST-MODIFIED:20260208T170302Z
UID:10000491-1770908400-1770919200@www.linwoodcountryclub.com
SUMMARY:Takeout Thursday
DESCRIPTION:Every Thursday\, take home a complete family meal! These weekly meals are available in full size (or 6-8 people\, $92) or half size (3-4 people\, $48). \nTo order\, please call (609) 927 – 6134 or email office@linwoodcountryclub.com. Orders must be placed by 1pm on the day of pickup. \nFEBRUARY\n2/5 – Turkey Chili – Cornbread\, Green Beans\, Arugula Salad \n2/12 – Rigatoni Bolognese – Broccoli\, Caesar Salad\, Garlic Bread \n2/19 – Shrimp Fra Diavolo –Penne\, Roasted Squash\, Chopped Salad \n2/26 – Chicken Cacciatore – Peppers\, Mushrooms & Potatoes\, Caesar Salad
URL:https://www.linwoodcountryclub.com/event/takeout-thursday-2/2026-02-12/
CATEGORIES:Restaurant
ATTACH;FMTTYPE=image/jpeg:https://www.linwoodcountryclub.com/wp-content/uploads/2021/12/Takeout-Thursday.jpg
END:VEVENT
BEGIN:VEVENT
DTSTART;TZID=UTC:20260205T150000
DTEND;TZID=UTC:20260205T180000
DTSTAMP:20260421T015553
CREATED:20260129T200249Z
LAST-MODIFIED:20260208T170302Z
UID:10000490-1770303600-1770314400@www.linwoodcountryclub.com
SUMMARY:Takeout Thursday
DESCRIPTION:Every Thursday\, take home a complete family meal! These weekly meals are available in full size (or 6-8 people\, $92) or half size (3-4 people\, $48). \nTo order\, please call (609) 927 – 6134 or email office@linwoodcountryclub.com. Orders must be placed by 1pm on the day of pickup. \nFEBRUARY\n2/5 – Turkey Chili – Cornbread\, Green Beans\, Arugula Salad \n2/12 – Rigatoni Bolognese – Broccoli\, Caesar Salad\, Garlic Bread \n2/19 – Shrimp Fra Diavolo –Penne\, Roasted Squash\, Chopped Salad \n2/26 – Chicken Cacciatore – Peppers\, Mushrooms & Potatoes\, Caesar Salad
URL:https://www.linwoodcountryclub.com/event/takeout-thursday-2/2026-02-05/
CATEGORIES:Restaurant
ATTACH;FMTTYPE=image/jpeg:https://www.linwoodcountryclub.com/wp-content/uploads/2021/12/Takeout-Thursday.jpg
END:VEVENT
BEGIN:VEVENT
DTSTART;TZID=UTC:20260131T130000
DTEND;TZID=UTC:20260131T160000
DTSTAMP:20260421T015553
CREATED:20260129T200815Z
LAST-MODIFIED:20260129T200900Z
UID:10000489-1769864400-1769875200@www.linwoodcountryclub.com
SUMMARY:Linwood Bridal Show
DESCRIPTION:Date & Time:  Saturday\, January 31\, 2026 from 1pm – 4pm \nAbout the Event: \nWith over 40 wedding vendors showcasing their products and services – from stunning floral design to expert hair and makeup professionals\, bridal gown shops to photographers – this event is your one-stop-shop for wedding planning bliss. \nIndulge in delicious passed appetizers and sip on your favorite beverage from our cash bar as you explore the latest trends in bridal fashion\, photography\, decor and more! \nThis is a laid back event meant to celebrate YOU! Whether you are newly engaged\, getting close to your big day\, or even just anticipating a ring\, we invite you to come meet and mingle with the best in South Jersey weddings! \nFor more info (including vendor list) and to register for FREE\, please visit https://www.linwoodweddingsnj.com/bridal-show
URL:https://www.linwoodcountryclub.com/event/linwood-bridal-show/
ATTACH;FMTTYPE=image/png:https://www.linwoodcountryclub.com/wp-content/uploads/2026/01/Copy-of-LINWOOD-COUNTRY-CLUB.png
END:VEVENT
BEGIN:VEVENT
DTSTART;TZID=UTC:20260129T150000
DTEND;TZID=UTC:20260129T180000
DTSTAMP:20260421T015553
CREATED:20251217T184648Z
LAST-MODIFIED:20260105T161841Z
UID:10000475-1769698800-1769709600@www.linwoodcountryclub.com
SUMMARY:Takeout Thursday
DESCRIPTION:Every Thursday\, take home a complete family meal! These weekly meals are available in full size (or 6-8 people\, $92) or half size (3-4 people\, $48). \nTo order\, please call (609) 927 – 6134 or email office@linwoodcountryclub.com. Orders must be placed by 1pm on the day of pickup. \nJANUARY\n1/1 – Shrimp Scampi – Penne\, Spinach & Tomato\, Broccoli\, Caesar Salad \n1/8 – Chicken Marsala – Wild Mushrooms\, Roasted Potatoes\, Chopped Salad \n1/15 – Turkey a la King – Stuffing\, Green Beans\, House Salad \n1/22 – Filet Ragout – Rigatoni\, Parmesan Squash\, Caesar Salad \n1/29 – Baked Ham – Macaroni and Cheese\, Broccoli\, Chopped Salad
URL:https://www.linwoodcountryclub.com/event/takeout-thursday/2026-01-29/
CATEGORIES:Restaurant
ATTACH;FMTTYPE=image/jpeg:https://www.linwoodcountryclub.com/wp-content/uploads/2021/12/Takeout-Thursday.jpg
END:VEVENT
BEGIN:VEVENT
DTSTART;TZID=UTC:20260122T150000
DTEND;TZID=UTC:20260122T180000
DTSTAMP:20260421T015553
CREATED:20251217T184648Z
LAST-MODIFIED:20260105T161841Z
UID:10000474-1769094000-1769104800@www.linwoodcountryclub.com
SUMMARY:Takeout Thursday
DESCRIPTION:Every Thursday\, take home a complete family meal! These weekly meals are available in full size (or 6-8 people\, $92) or half size (3-4 people\, $48). \nTo order\, please call (609) 927 – 6134 or email office@linwoodcountryclub.com. Orders must be placed by 1pm on the day of pickup. \nJANUARY\n1/1 – Shrimp Scampi – Penne\, Spinach & Tomato\, Broccoli\, Caesar Salad \n1/8 – Chicken Marsala – Wild Mushrooms\, Roasted Potatoes\, Chopped Salad \n1/15 – Turkey a la King – Stuffing\, Green Beans\, House Salad \n1/22 – Filet Ragout – Rigatoni\, Parmesan Squash\, Caesar Salad \n1/29 – Baked Ham – Macaroni and Cheese\, Broccoli\, Chopped Salad
URL:https://www.linwoodcountryclub.com/event/takeout-thursday/2026-01-22/
CATEGORIES:Restaurant
ATTACH;FMTTYPE=image/jpeg:https://www.linwoodcountryclub.com/wp-content/uploads/2021/12/Takeout-Thursday.jpg
END:VEVENT
BEGIN:VEVENT
DTSTART;TZID=UTC:20260115T150000
DTEND;TZID=UTC:20260115T180000
DTSTAMP:20260421T015553
CREATED:20251217T184648Z
LAST-MODIFIED:20260105T161841Z
UID:10000473-1768489200-1768500000@www.linwoodcountryclub.com
SUMMARY:Takeout Thursday
DESCRIPTION:Every Thursday\, take home a complete family meal! These weekly meals are available in full size (or 6-8 people\, $92) or half size (3-4 people\, $48). \nTo order\, please call (609) 927 – 6134 or email office@linwoodcountryclub.com. Orders must be placed by 1pm on the day of pickup. \nJANUARY\n1/1 – Shrimp Scampi – Penne\, Spinach & Tomato\, Broccoli\, Caesar Salad \n1/8 – Chicken Marsala – Wild Mushrooms\, Roasted Potatoes\, Chopped Salad \n1/15 – Turkey a la King – Stuffing\, Green Beans\, House Salad \n1/22 – Filet Ragout – Rigatoni\, Parmesan Squash\, Caesar Salad \n1/29 – Baked Ham – Macaroni and Cheese\, Broccoli\, Chopped Salad
URL:https://www.linwoodcountryclub.com/event/takeout-thursday/2026-01-15/
CATEGORIES:Restaurant
ATTACH;FMTTYPE=image/jpeg:https://www.linwoodcountryclub.com/wp-content/uploads/2021/12/Takeout-Thursday.jpg
END:VEVENT
BEGIN:VEVENT
DTSTART;TZID=UTC:20260108T150000
DTEND;TZID=UTC:20260108T180000
DTSTAMP:20260421T015553
CREATED:20251217T184648Z
LAST-MODIFIED:20260105T161841Z
UID:10000472-1767884400-1767895200@www.linwoodcountryclub.com
SUMMARY:Takeout Thursday
DESCRIPTION:Every Thursday\, take home a complete family meal! These weekly meals are available in full size (or 6-8 people\, $92) or half size (3-4 people\, $48). \nTo order\, please call (609) 927 – 6134 or email office@linwoodcountryclub.com. Orders must be placed by 1pm on the day of pickup. \nJANUARY\n1/1 – Shrimp Scampi – Penne\, Spinach & Tomato\, Broccoli\, Caesar Salad \n1/8 – Chicken Marsala – Wild Mushrooms\, Roasted Potatoes\, Chopped Salad \n1/15 – Turkey a la King – Stuffing\, Green Beans\, House Salad \n1/22 – Filet Ragout – Rigatoni\, Parmesan Squash\, Caesar Salad \n1/29 – Baked Ham – Macaroni and Cheese\, Broccoli\, Chopped Salad
URL:https://www.linwoodcountryclub.com/event/takeout-thursday/2026-01-08/
CATEGORIES:Restaurant
ATTACH;FMTTYPE=image/jpeg:https://www.linwoodcountryclub.com/wp-content/uploads/2021/12/Takeout-Thursday.jpg
END:VEVENT
BEGIN:VEVENT
DTSTART;TZID=UTC:20251230T150000
DTEND;TZID=UTC:20251230T180000
DTSTAMP:20260421T015553
CREATED:20251201T164959Z
LAST-MODIFIED:20251201T181431Z
UID:10000462-1767106800-1767117600@www.linwoodcountryclub.com
SUMMARY:Takeout Tuesday
DESCRIPTION:Every Tuesday\, take home a complete family meal! These weekly meals are available in full size (or 6-8 people\, $92) or half size (3-4 people\, $48). \nTo order\, please call (609) 927 – 6134 or email office@linwoodcountryclub.com. Orders must be placed by 1pm on the day of pickup. \nDECEMBER\n12/2 – Filet Shepherd’s Pie – Mashed Potato\, Broccoli\, Caesar Salad \n12/9 – Shrimp Fra Diavolo – Fennel\, Spinach\, Penne\, Chopped Salad \n12/16 – Beef Bolognese – Rigatoni\, Green Beans\, House Salad \n12/23 – Chicken Cacciatore – Peppers & Potatoes\, Parmesan Squash\, Caesar Salad \n12/30 – Shrimp Carbonara – Penne\, Broccoli\, Arugula Salad
URL:https://www.linwoodcountryclub.com/event/takeout-tuesday-7/2025-12-30/
CATEGORIES:Restaurant
ATTACH;FMTTYPE=image/jpeg:https://www.linwoodcountryclub.com/wp-content/uploads/2024/09/Takeout-Tuesday.jpg
END:VEVENT
BEGIN:VEVENT
DTSTART;VALUE=DATE:20251225
DTEND;VALUE=DATE:20251226
DTSTAMP:20260421T015553
CREATED:20251205T163753Z
LAST-MODIFIED:20251205T163753Z
UID:10000465-1766620800-1766707199@www.linwoodcountryclub.com
SUMMARY:Christmas Day - Closed
DESCRIPTION:We are closed on Christmas Eve and Christmas Day
URL:https://www.linwoodcountryclub.com/event/christmas-day-closed/
END:VEVENT
BEGIN:VEVENT
DTSTART;VALUE=DATE:20251224
DTEND;VALUE=DATE:20251225
DTSTAMP:20260421T015553
CREATED:20251205T163728Z
LAST-MODIFIED:20251205T163914Z
UID:10000463-1766534400-1766620799@www.linwoodcountryclub.com
SUMMARY:Christmas Eve - Closed
DESCRIPTION:We are closed on Christmas Eve and Christmas Day.
URL:https://www.linwoodcountryclub.com/event/christmas-eve-closed/
END:VEVENT
BEGIN:VEVENT
DTSTART;TZID=UTC:20251223T150000
DTEND;TZID=UTC:20251223T180000
DTSTAMP:20260421T015553
CREATED:20251201T164959Z
LAST-MODIFIED:20251201T181431Z
UID:10000461-1766502000-1766512800@www.linwoodcountryclub.com
SUMMARY:Takeout Tuesday
DESCRIPTION:Every Tuesday\, take home a complete family meal! These weekly meals are available in full size (or 6-8 people\, $92) or half size (3-4 people\, $48). \nTo order\, please call (609) 927 – 6134 or email office@linwoodcountryclub.com. Orders must be placed by 1pm on the day of pickup. \nDECEMBER\n12/2 – Filet Shepherd’s Pie – Mashed Potato\, Broccoli\, Caesar Salad \n12/9 – Shrimp Fra Diavolo – Fennel\, Spinach\, Penne\, Chopped Salad \n12/16 – Beef Bolognese – Rigatoni\, Green Beans\, House Salad \n12/23 – Chicken Cacciatore – Peppers & Potatoes\, Parmesan Squash\, Caesar Salad \n12/30 – Shrimp Carbonara – Penne\, Broccoli\, Arugula Salad
URL:https://www.linwoodcountryclub.com/event/takeout-tuesday-7/2025-12-23/
CATEGORIES:Restaurant
ATTACH;FMTTYPE=image/jpeg:https://www.linwoodcountryclub.com/wp-content/uploads/2024/09/Takeout-Tuesday.jpg
END:VEVENT
BEGIN:VEVENT
DTSTART;TZID=UTC:20251216T150000
DTEND;TZID=UTC:20251216T180000
DTSTAMP:20260421T015553
CREATED:20251201T164959Z
LAST-MODIFIED:20251201T181431Z
UID:10000460-1765897200-1765908000@www.linwoodcountryclub.com
SUMMARY:Takeout Tuesday
DESCRIPTION:Every Tuesday\, take home a complete family meal! These weekly meals are available in full size (or 6-8 people\, $92) or half size (3-4 people\, $48). \nTo order\, please call (609) 927 – 6134 or email office@linwoodcountryclub.com. Orders must be placed by 1pm on the day of pickup. \nDECEMBER\n12/2 – Filet Shepherd’s Pie – Mashed Potato\, Broccoli\, Caesar Salad \n12/9 – Shrimp Fra Diavolo – Fennel\, Spinach\, Penne\, Chopped Salad \n12/16 – Beef Bolognese – Rigatoni\, Green Beans\, House Salad \n12/23 – Chicken Cacciatore – Peppers & Potatoes\, Parmesan Squash\, Caesar Salad \n12/30 – Shrimp Carbonara – Penne\, Broccoli\, Arugula Salad
URL:https://www.linwoodcountryclub.com/event/takeout-tuesday-7/2025-12-16/
CATEGORIES:Restaurant
ATTACH;FMTTYPE=image/jpeg:https://www.linwoodcountryclub.com/wp-content/uploads/2024/09/Takeout-Tuesday.jpg
END:VEVENT
BEGIN:VEVENT
DTSTART;TZID=UTC:20251214T110000
DTEND;TZID=UTC:20251214T130000
DTSTAMP:20260421T015553
CREATED:20251103T172417Z
LAST-MODIFIED:20251103T172417Z
UID:10000448-1765710000-1765717200@www.linwoodcountryclub.com
SUMMARY:Brunch with Santa
DESCRIPTION:Santa Claus is coming to Linwood on Sunday\, December 7 and Sunday\, December 14! Children and families are welcome to join us for a brunch buffet\, Christmas crafts and photos with Santa! \nReservations are available from 11am – 1pm. Cost is $44 for adults\, $22 for children ages 4-12 (3 & under are free!) \nFor a reservation\, please call (609) 927-6134
URL:https://www.linwoodcountryclub.com/event/brunch-with-santa-2/
CATEGORIES:Restaurant
ATTACH;FMTTYPE=image/jpeg:https://www.linwoodcountryclub.com/wp-content/uploads/2024/11/Brunch-with-Santa-website.jpg
END:VEVENT
BEGIN:VEVENT
DTSTART;TZID=UTC:20251209T150000
DTEND;TZID=UTC:20251209T180000
DTSTAMP:20260421T015553
CREATED:20251201T164959Z
LAST-MODIFIED:20251201T181431Z
UID:10000459-1765292400-1765303200@www.linwoodcountryclub.com
SUMMARY:Takeout Tuesday
DESCRIPTION:Every Tuesday\, take home a complete family meal! These weekly meals are available in full size (or 6-8 people\, $92) or half size (3-4 people\, $48). \nTo order\, please call (609) 927 – 6134 or email office@linwoodcountryclub.com. Orders must be placed by 1pm on the day of pickup. \nDECEMBER\n12/2 – Filet Shepherd’s Pie – Mashed Potato\, Broccoli\, Caesar Salad \n12/9 – Shrimp Fra Diavolo – Fennel\, Spinach\, Penne\, Chopped Salad \n12/16 – Beef Bolognese – Rigatoni\, Green Beans\, House Salad \n12/23 – Chicken Cacciatore – Peppers & Potatoes\, Parmesan Squash\, Caesar Salad \n12/30 – Shrimp Carbonara – Penne\, Broccoli\, Arugula Salad
URL:https://www.linwoodcountryclub.com/event/takeout-tuesday-7/2025-12-09/
CATEGORIES:Restaurant
ATTACH;FMTTYPE=image/jpeg:https://www.linwoodcountryclub.com/wp-content/uploads/2024/09/Takeout-Tuesday.jpg
END:VEVENT
BEGIN:VEVENT
DTSTART;TZID=UTC:20251207T110000
DTEND;TZID=UTC:20251207T130000
DTSTAMP:20260421T015553
CREATED:20241104T160953Z
LAST-MODIFIED:20251103T171959Z
UID:10000008-1765105200-1765112400@www.linwoodcountryclub.com
SUMMARY:Brunch with Santa
DESCRIPTION:Santa Claus is coming to Linwood on Sunday\, December 7 and Sunday\, December 14! Children and families are welcome to join us for a brunch buffet\, Christmas crafts and photos with Santa! \nReservations are available from 11am – 1pm. Cost is $44 for adults\, $22 for children ages 4-12 (3 & under are free!) \nFor a reservation\, please call (609) 927-6134
URL:https://www.linwoodcountryclub.com/event/brunch-with-santa/
CATEGORIES:Restaurant
ATTACH;FMTTYPE=image/jpeg:https://www.linwoodcountryclub.com/wp-content/uploads/2024/11/Brunch-with-Santa-website.jpg
END:VEVENT
BEGIN:VEVENT
DTSTART;TZID=UTC:20251202T150000
DTEND;TZID=UTC:20251202T180000
DTSTAMP:20260421T015553
CREATED:20251201T164959Z
LAST-MODIFIED:20251201T181431Z
UID:10000458-1764687600-1764698400@www.linwoodcountryclub.com
SUMMARY:Takeout Tuesday
DESCRIPTION:Every Tuesday\, take home a complete family meal! These weekly meals are available in full size (or 6-8 people\, $92) or half size (3-4 people\, $48). \nTo order\, please call (609) 927 – 6134 or email office@linwoodcountryclub.com. Orders must be placed by 1pm on the day of pickup. \nDECEMBER\n12/2 – Filet Shepherd’s Pie – Mashed Potato\, Broccoli\, Caesar Salad \n12/9 – Shrimp Fra Diavolo – Fennel\, Spinach\, Penne\, Chopped Salad \n12/16 – Beef Bolognese – Rigatoni\, Green Beans\, House Salad \n12/23 – Chicken Cacciatore – Peppers & Potatoes\, Parmesan Squash\, Caesar Salad \n12/30 – Shrimp Carbonara – Penne\, Broccoli\, Arugula Salad
URL:https://www.linwoodcountryclub.com/event/takeout-tuesday-7/2025-12-02/
CATEGORIES:Restaurant
ATTACH;FMTTYPE=image/jpeg:https://www.linwoodcountryclub.com/wp-content/uploads/2024/09/Takeout-Tuesday.jpg
END:VEVENT
BEGIN:VEVENT
DTSTART;TZID=UTC:20251129T170000
DTEND;TZID=UTC:20251129T190000
DTSTAMP:20260421T015553
CREATED:20251023T211113Z
LAST-MODIFIED:20251024T153411Z
UID:10000007-1764435600-1764442800@www.linwoodcountryclub.com
SUMMARY:Tree Lighting Celebration
DESCRIPTION:Join us for our annual Tree Lighting Celebration to kick off the Holiday Season! The family-friendly event will include live music\, hot chocolate\, cookies and food & drink specials. Free entry and no reservations!
URL:https://www.linwoodcountryclub.com/event/tree-lighting-celebration/
CATEGORIES:Restaurant
ATTACH;FMTTYPE=image/jpeg:https://www.linwoodcountryclub.com/wp-content/uploads/2024/10/tree-lighting-celebration-website.jpg
END:VEVENT
BEGIN:VEVENT
DTSTART;TZID=UTC:20251127T140000
DTEND;TZID=UTC:20251127T170000
DTSTAMP:20260421T015553
CREATED:20241002T161001Z
LAST-MODIFIED:20250912T175615Z
UID:10000005-1764252000-1764262800@www.linwoodcountryclub.com
SUMMARY:Thanksgiving Buffet
DESCRIPTION:Bring the family to the Club on Thanksgiving day and enjoy a traditional Thanksgiving feast! \nSeatings at 2:00pm\, 5:0pm \n$70 adults\, $28 kids (ages 5-12) \nReservations Required! \nThanksgiving dinner will include: Turkey\, Filet Mignon\, Salmon\, Glazed Ham\, Caesar Salad\, Arugula Salad\, Biscuits\, Stuffing\, Mashed Potatoes\, Haricot Verts with Fried Shallots\, Mac and Cheese\, Sweet Potatoes\, Steamed Broccoli\, Cranberry Sauce and a Pie Station.
URL:https://www.linwoodcountryclub.com/event/thanksgiving-buffet/
CATEGORIES:Restaurant
ATTACH;FMTTYPE=image/jpeg:https://www.linwoodcountryclub.com/wp-content/uploads/2021/10/thanksgiving-buffet-website.jpg
END:VEVENT
BEGIN:VEVENT
DTSTART;TZID=UTC:20251126T100000
DTEND;TZID=UTC:20251126T160000
DTSTAMP:20260421T015553
CREATED:20241002T161334Z
LAST-MODIFIED:20250912T175814Z
UID:10000006-1764151200-1764172800@www.linwoodcountryclub.com
SUMMARY:Thanksgiving To Go
DESCRIPTION:Entertaining at home? Let us do the cooking! Our Thanksgiving To Go includes everything you need with a pick-up on Wednesday for your convenience. \nOrders must be placed by 5pm on Thursday\, November 20. Orders must be picked up on Wednesday\, November 26 between 10am – 4pm.
URL:https://www.linwoodcountryclub.com/event/thanksgiving-to-go/
CATEGORIES:Restaurant
ATTACH;FMTTYPE=image/jpeg:https://www.linwoodcountryclub.com/wp-content/uploads/2024/10/Thanksgiving-To-Go-Menu-2025.jpg
END:VEVENT
BEGIN:VEVENT
DTSTART;TZID=UTC:20251118T150000
DTEND;TZID=UTC:20251118T180000
DTSTAMP:20260421T015553
CREATED:20251113T182211Z
LAST-MODIFIED:20251118T150849Z
UID:10000456-1763478000-1763488800@www.linwoodcountryclub.com
SUMMARY:Takeout Tuesday
DESCRIPTION:Every Tuesday\, take home a complete family meal! These weekly meals are available in full size (or 6-8 people\, $92) or half size (3-4 people\, $48). \nTo order\, please call (609) 927 – 6134 or email office@linwoodcountryclub.com. Orders must be placed by 1pm on the day of pickup. \nNOVEMBER\n11/4 – Cottage Pie – Green Beans\, Chopped Salad \n11/11 – Shrimp Scampi – Spinach & Tomatoes\, Penne\, Broccoli\, Caesar Salad \n11/18 – Chicken Marsala – Wild Mushrooms\, Roasted Potatoes\, Broccolini\, House Salad \n11/26 – No Takeout 
URL:https://www.linwoodcountryclub.com/event/takeout-tuesday-6/
CATEGORIES:Restaurant
ATTACH;FMTTYPE=image/jpeg:https://www.linwoodcountryclub.com/wp-content/uploads/2024/09/Takeout-Tuesday.jpg
END:VEVENT
BEGIN:VEVENT
DTSTART;TZID=UTC:20251111T150000
DTEND;TZID=UTC:20251111T180000
DTSTAMP:20260421T015553
CREATED:20251104T154903Z
LAST-MODIFIED:20251113T180449Z
UID:10000455-1762873200-1762884000@www.linwoodcountryclub.com
SUMMARY:Takeout Tuesday
DESCRIPTION:Every Tuesday\, take home a complete family meal! These weekly meals are available in full size (or 6-8 people\, $92) or half size (3-4 people\, $48). \nTo order\, please call (609) 927 – 6134 or email office@linwoodcountryclub.com. Orders must be placed by 1pm on the day of pickup. \nNOVEMBER\n11/4 – Cottage Pie – Green Beans\, Chopped Salad \n11/11 – Shrimp Scampi – Spinach & Tomatoes\, Penne\, Broccoli\, Caesar Salad \n11/18 – Chicken Marsala – Wild Mushrooms\, Roasted Potatoes\, Broccolini\, House Salad \n11/26 – No Takeout 
URL:https://www.linwoodcountryclub.com/event/takeout-tuesday-5/
ATTACH;FMTTYPE=image/jpeg:https://www.linwoodcountryclub.com/wp-content/uploads/2024/12/Takeout-Thursday.jpg
END:VEVENT
BEGIN:VEVENT
DTSTART;TZID=UTC:20251028T150000
DTEND;TZID=UTC:20251028T180000
DTSTAMP:20260421T015553
CREATED:20250930T181028Z
LAST-MODIFIED:20250930T181200Z
UID:10000447-1761663600-1761674400@www.linwoodcountryclub.com
SUMMARY:Takeout Tuesday - October
DESCRIPTION:Every Tuesday\, take home a complete family meal! These weekly meals are available in full size (or 6-8 people) or half size (3-4 people). \nTo order\, please call (609) 927 – 6134 or email office@linwoodcountryclub.com. Orders must be placed by 1pm on the day of pickup. \nOCTOBER MENU\n10/7 – Beef Chili – White Rice\, Corn Bread\, Chopped Salad \n10/14 – Chicken Cacciatore – Peppers & Potatoes\, Green Beans\, Caesar Salad \n10/21 – Shrimp Carbonara – Peas & Prosciutto\, Penne\, Broccoli\, Garden Salad \n10/28 – Rigatoni Bolognese – Parmesan Squash\, Arugula Salad
URL:https://www.linwoodcountryclub.com/event/takeout-tuesday-october/2025-10-28/
ATTACH;FMTTYPE=image/jpeg:https://www.linwoodcountryclub.com/wp-content/uploads/2024/09/Takeout-Tuesday.jpg
END:VEVENT
BEGIN:VEVENT
DTSTART;TZID=UTC:20251021T150000
DTEND;TZID=UTC:20251021T180000
DTSTAMP:20260421T015553
CREATED:20250930T181028Z
LAST-MODIFIED:20250930T181200Z
UID:10000446-1761058800-1761069600@www.linwoodcountryclub.com
SUMMARY:Takeout Tuesday - October
DESCRIPTION:Every Tuesday\, take home a complete family meal! These weekly meals are available in full size (or 6-8 people) or half size (3-4 people). \nTo order\, please call (609) 927 – 6134 or email office@linwoodcountryclub.com. Orders must be placed by 1pm on the day of pickup. \nOCTOBER MENU\n10/7 – Beef Chili – White Rice\, Corn Bread\, Chopped Salad \n10/14 – Chicken Cacciatore – Peppers & Potatoes\, Green Beans\, Caesar Salad \n10/21 – Shrimp Carbonara – Peas & Prosciutto\, Penne\, Broccoli\, Garden Salad \n10/28 – Rigatoni Bolognese – Parmesan Squash\, Arugula Salad
URL:https://www.linwoodcountryclub.com/event/takeout-tuesday-october/2025-10-21/
ATTACH;FMTTYPE=image/jpeg:https://www.linwoodcountryclub.com/wp-content/uploads/2024/09/Takeout-Tuesday.jpg
END:VEVENT
BEGIN:VEVENT
DTSTART;TZID=UTC:20251014T150000
DTEND;TZID=UTC:20251014T180000
DTSTAMP:20260421T015553
CREATED:20250930T181028Z
LAST-MODIFIED:20250930T181200Z
UID:10000445-1760454000-1760464800@www.linwoodcountryclub.com
SUMMARY:Takeout Tuesday - October
DESCRIPTION:Every Tuesday\, take home a complete family meal! These weekly meals are available in full size (or 6-8 people) or half size (3-4 people). \nTo order\, please call (609) 927 – 6134 or email office@linwoodcountryclub.com. Orders must be placed by 1pm on the day of pickup. \nOCTOBER MENU\n10/7 – Beef Chili – White Rice\, Corn Bread\, Chopped Salad \n10/14 – Chicken Cacciatore – Peppers & Potatoes\, Green Beans\, Caesar Salad \n10/21 – Shrimp Carbonara – Peas & Prosciutto\, Penne\, Broccoli\, Garden Salad \n10/28 – Rigatoni Bolognese – Parmesan Squash\, Arugula Salad
URL:https://www.linwoodcountryclub.com/event/takeout-tuesday-october/2025-10-14/
ATTACH;FMTTYPE=image/jpeg:https://www.linwoodcountryclub.com/wp-content/uploads/2024/09/Takeout-Tuesday.jpg
END:VEVENT
BEGIN:VEVENT
DTSTART;TZID=UTC:20251012T110000
DTEND;TZID=UTC:20251012T140000
DTSTAMP:20260421T015553
CREATED:20250923T184452Z
LAST-MODIFIED:20251009T172321Z
UID:10000443-1760266800-1760277600@www.linwoodcountryclub.com
SUMMARY:Fall Fest - Cancelled
DESCRIPTION:2025 FALL FEST IS CANCELLED DUE TO WEATHER
URL:https://www.linwoodcountryclub.com/event/fall-fest/
ATTACH;FMTTYPE=image/jpeg:https://www.linwoodcountryclub.com/wp-content/uploads/2025/09/Header-copy.jpg
END:VEVENT
BEGIN:VEVENT
DTSTART;TZID=UTC:20251007T150000
DTEND;TZID=UTC:20251007T180000
DTSTAMP:20260421T015553
CREATED:20250930T181028Z
LAST-MODIFIED:20250930T181200Z
UID:10000444-1759849200-1759860000@www.linwoodcountryclub.com
SUMMARY:Takeout Tuesday - October
DESCRIPTION:Every Tuesday\, take home a complete family meal! These weekly meals are available in full size (or 6-8 people) or half size (3-4 people). \nTo order\, please call (609) 927 – 6134 or email office@linwoodcountryclub.com. Orders must be placed by 1pm on the day of pickup. \nOCTOBER MENU\n10/7 – Beef Chili – White Rice\, Corn Bread\, Chopped Salad \n10/14 – Chicken Cacciatore – Peppers & Potatoes\, Green Beans\, Caesar Salad \n10/21 – Shrimp Carbonara – Peas & Prosciutto\, Penne\, Broccoli\, Garden Salad \n10/28 – Rigatoni Bolognese – Parmesan Squash\, Arugula Salad
URL:https://www.linwoodcountryclub.com/event/takeout-tuesday-october/2025-10-07/
ATTACH;FMTTYPE=image/jpeg:https://www.linwoodcountryclub.com/wp-content/uploads/2024/09/Takeout-Tuesday.jpg
END:VEVENT
BEGIN:VEVENT
DTSTART;TZID=UTC:20250930T171500
DTEND;TZID=UTC:20250930T210000
DTSTAMP:20260421T015553
CREATED:20250312T181508Z
LAST-MODIFIED:20250312T181508Z
UID:10000160-1759252500-1759266000@www.linwoodcountryclub.com
SUMMARY:Men's League Fall Ball
DESCRIPTION:The men’s league is a nine-hole match play competition with fellow members within handicapped flights. Dinner will follow with golf and camaraderie. The men’s league is perfect for all men looking to enjoy some friendly competition and have the opportunity to meet new members of the club. \nThere is a shotgun start on Tuesdays at 5:15pm for five consecutive weeks. There are three sessions continuing May through August. Prior to the begin date in May\, we hold Spring Training Sessions on Tuesdays as a warmup. In the Fall\, we continue competitions on Tuesday nights for as long as weather permits.
URL:https://www.linwoodcountryclub.com/event/mens-league-fall-ball/2025-09-30/
CATEGORIES:Golf
END:VEVENT
END:VCALENDAR