BEGIN:VCALENDAR
VERSION:2.0
PRODID:-//Linwood Country Club - ECPv6.15.20//NONSGML v1.0//EN
CALSCALE:GREGORIAN
METHOD:PUBLISH
X-WR-CALNAME:Linwood Country Club
X-ORIGINAL-URL:https://www.linwoodcountryclub.com
X-WR-CALDESC:Events for Linwood Country Club
REFRESH-INTERVAL;VALUE=DURATION:PT1H
X-Robots-Tag:noindex
X-PUBLISHED-TTL:PT1H
BEGIN:VTIMEZONE
TZID:UTC
BEGIN:STANDARD
TZOFFSETFROM:+0000
TZOFFSETTO:+0000
TZNAME:UTC
DTSTART:20240101T000000
END:STANDARD
END:VTIMEZONE
BEGIN:VTIMEZONE
TZID:America/New_York
BEGIN:DAYLIGHT
TZOFFSETFROM:-0500
TZOFFSETTO:-0400
TZNAME:EDT
DTSTART:20240310T070000
END:DAYLIGHT
BEGIN:STANDARD
TZOFFSETFROM:-0400
TZOFFSETTO:-0500
TZNAME:EST
DTSTART:20241103T060000
END:STANDARD
BEGIN:DAYLIGHT
TZOFFSETFROM:-0500
TZOFFSETTO:-0400
TZNAME:EDT
DTSTART:20250309T070000
END:DAYLIGHT
BEGIN:STANDARD
TZOFFSETFROM:-0400
TZOFFSETTO:-0500
TZNAME:EST
DTSTART:20251102T060000
END:STANDARD
BEGIN:DAYLIGHT
TZOFFSETFROM:-0500
TZOFFSETTO:-0400
TZNAME:EDT
DTSTART:20260308T070000
END:DAYLIGHT
BEGIN:STANDARD
TZOFFSETFROM:-0400
TZOFFSETTO:-0500
TZNAME:EST
DTSTART:20261101T060000
END:STANDARD
END:VTIMEZONE
BEGIN:VEVENT
DTSTART;TZID=UTC:20250708T171500
DTEND;TZID=UTC:20250708T210000
DTSTAMP:20260421T015053
CREATED:20250312T181419Z
LAST-MODIFIED:20250312T182120Z
UID:10000096-1751994900-1752008400@www.linwoodcountryclub.com
SUMMARY:Men's League
DESCRIPTION:The men’s league is a nine-hole match play competition with fellow members within handicapped flights. Dinner will follow with golf and camaraderie. The men’s league is perfect for all men looking to enjoy some friendly competition and have the opportunity to meet new members of the club. \nThere is a shotgun start on Tuesdays at 5:15pm for five consecutive weeks. There are three sessions continuing May through August. Prior to the begin date in May\, we hold Spring Training Sessions on Tuesdays as a warmup. In the Fall\, we continue competitions on Tuesday nights for as long as weather permits.
URL:https://www.linwoodcountryclub.com/event/mens-league/2025-07-08/
CATEGORIES:Golf
END:VEVENT
BEGIN:VEVENT
DTSTART;TZID=America/New_York:20250708T150000
DTEND;TZID=America/New_York:20250708T180000
DTSTAMP:20260421T015053
CREATED:20250620T160059Z
LAST-MODIFIED:20250620T160059Z
UID:10000411-1751986800-1751997600@www.linwoodcountryclub.com
SUMMARY:Takeout Tuesday - July
DESCRIPTION:Every Tuesday\, take home a complete family meal! These weekly meals are available in full size (or 6-8 people) or half size (3-4 people). \nTo order\, please call (609) 927 – 6134 or email office@linwoodcountryclub.com. Orders must be placed by 1pm on the day of pickup
URL:https://www.linwoodcountryclub.com/event/takeout-tuesday-july/2025-07-08/
LOCATION:Linwood Country Club\, 500 Shore Road\, Linwood\, NJ\, 08221\, United States
CATEGORIES:Restaurant
ATTACH;FMTTYPE=image/jpeg:https://www.linwoodcountryclub.com/wp-content/uploads/2024/09/Takeout-Tuesday.jpg
END:VEVENT
BEGIN:VEVENT
DTSTART;TZID=UTC:20250703T170000
DTEND;TZID=UTC:20250703T190000
DTSTAMP:20260421T015053
CREATED:20250515T154218Z
LAST-MODIFIED:20250515T154637Z
UID:10000262-1751562000-1751569200@www.linwoodcountryclub.com
SUMMARY:Swing & A Sip
DESCRIPTION:Swing & Sip – A Ladies’ Night on the Green!Ready to mix a little wine with your wedge? Join us for Swing & Sip\, a fun and relaxed beginner clinic just for the ladies! \n1-hour golf lesson⛳ Play 3 holesEnjoy 3 glasses of winePlus tasty hors d’oeuvres \nWhether you’re new to the game or just here for the good times\, it’s the perfect way to spend an evening! \nMember Price: $55 | Non-Member Price: $65Call 609-927-7374 to reserve your spot! Sign-ups begin one week in advance
URL:https://www.linwoodcountryclub.com/event/swing-a-sip-2/
CATEGORIES:Fox Den
ATTACH;FMTTYPE=image/jpeg:https://www.linwoodcountryclub.com/wp-content/uploads/2022/06/Swing-and-Sip-Newsletter.jpg
END:VEVENT
BEGIN:VEVENT
DTSTART;TZID=UTC:20250702T090000
DTEND;TZID=UTC:20250702T120000
DTSTAMP:20260421T015053
CREATED:20250312T181625Z
LAST-MODIFIED:20250912T182401Z
UID:10000169-1751446800-1751457600@www.linwoodcountryclub.com
SUMMARY:Women's Golf Association
DESCRIPTION:Every Wednesday at 9:00am\, the Women’s Golf Association has an eighteen hole competition with various formats. Following golf there is a lunch and results for the day’s competition.
URL:https://www.linwoodcountryclub.com/event/womens-golf-association/2025-07-02/
CATEGORIES:Golf
END:VEVENT
BEGIN:VEVENT
DTSTART;TZID=UTC:20250701T171500
DTEND;TZID=UTC:20250701T210000
DTSTAMP:20260421T015053
CREATED:20250312T181419Z
LAST-MODIFIED:20250312T182120Z
UID:10000095-1751390100-1751403600@www.linwoodcountryclub.com
SUMMARY:Men's League
DESCRIPTION:The men’s league is a nine-hole match play competition with fellow members within handicapped flights. Dinner will follow with golf and camaraderie. The men’s league is perfect for all men looking to enjoy some friendly competition and have the opportunity to meet new members of the club. \nThere is a shotgun start on Tuesdays at 5:15pm for five consecutive weeks. There are three sessions continuing May through August. Prior to the begin date in May\, we hold Spring Training Sessions on Tuesdays as a warmup. In the Fall\, we continue competitions on Tuesday nights for as long as weather permits.
URL:https://www.linwoodcountryclub.com/event/mens-league/2025-07-01/
CATEGORIES:Golf
END:VEVENT
BEGIN:VEVENT
DTSTART;TZID=America/New_York:20250701T150000
DTEND;TZID=America/New_York:20250701T180000
DTSTAMP:20260421T015053
CREATED:20250620T160119Z
LAST-MODIFIED:20250620T160119Z
UID:10000410-1751382000-1751392800@www.linwoodcountryclub.com
SUMMARY:Takeout Tuesday - July
DESCRIPTION:Every Tuesday\, take home a complete family meal! These weekly meals are available in full size (or 6-8 people) or half size (3-4 people). \nTo order\, please call (609) 927 – 6134 or email office@linwoodcountryclub.com. Orders must be placed by 1pm on the day of pickup
URL:https://www.linwoodcountryclub.com/event/takeout-tuesday-july-2/
LOCATION:Linwood Country Club\, 500 Shore Road\, Linwood\, NJ\, 08221\, United States
CATEGORIES:Restaurant
ATTACH;FMTTYPE=image/jpeg:https://www.linwoodcountryclub.com/wp-content/uploads/2024/09/Takeout-Tuesday.jpg
END:VEVENT
BEGIN:VEVENT
DTSTART;TZID=UTC:20250626T170000
DTEND;TZID=UTC:20250626T190000
DTSTAMP:20260421T015053
CREATED:20250515T153939Z
LAST-MODIFIED:20250515T154621Z
UID:10000253-1750957200-1750964400@www.linwoodcountryclub.com
SUMMARY:Swing & A Sip
DESCRIPTION:Swing & Sip – A Ladies’ Night on the Green!Ready to mix a little wine with your wedge? Join us for Swing & Sip\, a fun and relaxed beginner clinic just for the ladies! \n1-hour golf lesson⛳ Play 3 holesEnjoy 3 glasses of winePlus tasty hors d’oeuvres \nWhether you’re new to the game or just here for the good times\, it’s the perfect way to spend an evening! \nMember Price: $55 | Non-Member Price: $65Call 609-927-7374 to reserve your spot! Sign-ups begin one week in advance.
URL:https://www.linwoodcountryclub.com/event/swing-a-sip/2025-06-26/
CATEGORIES:Fox Den
ATTACH;FMTTYPE=image/jpeg:https://www.linwoodcountryclub.com/wp-content/uploads/2022/06/Swing-and-Sip-Newsletter.jpg
END:VEVENT
BEGIN:VEVENT
DTSTART;TZID=UTC:20250625T170000
DTEND;TZID=UTC:20250625T190000
DTSTAMP:20260421T015053
CREATED:20250327T161115Z
LAST-MODIFIED:20250620T155124Z
UID:10000244-1750870800-1750878000@www.linwoodcountryclub.com
SUMMARY:Paint & Sip
DESCRIPTION:Try your hand at something new! Each ticket includes all supplies\, live instruction\, a glass of wine or beer and charcuterie. Seating is limited\, so we recommend purchasing your ticket in advance. Purchase your ticket online at https://www.foxdenlcc.com/paint-sip \nSummer 2025 Paint & Sip dates include: \n\nJune 25\nJuly 9\nJuly 23\nAugust 6\nAugust 20\nSeptember 3\n\nVisit The Fox Den website for more details and ticket purchase: https://www.foxdenlcc.com/paint-sip
URL:https://www.linwoodcountryclub.com/event/paint-sip/2025-06-25/
LOCATION:The Fox Den\, 500 Shore Road\, Linwood\, NJ\, 08221\, United States
CATEGORIES:Fox Den
ATTACH;FMTTYPE=image/jpeg:https://www.linwoodcountryclub.com/wp-content/uploads/2024/07/Paint-and-Sip-v3.jpg
END:VEVENT
BEGIN:VEVENT
DTSTART;TZID=UTC:20250625T090000
DTEND;TZID=UTC:20250625T120000
DTSTAMP:20260421T015053
CREATED:20250312T181625Z
LAST-MODIFIED:20250912T182401Z
UID:10000168-1750842000-1750852800@www.linwoodcountryclub.com
SUMMARY:Women's Golf Association
DESCRIPTION:Every Wednesday at 9:00am\, the Women’s Golf Association has an eighteen hole competition with various formats. Following golf there is a lunch and results for the day’s competition.
URL:https://www.linwoodcountryclub.com/event/womens-golf-association/2025-06-25/
CATEGORIES:Golf
END:VEVENT
BEGIN:VEVENT
DTSTART;TZID=UTC:20250624T171500
DTEND;TZID=UTC:20250624T210000
DTSTAMP:20260421T015053
CREATED:20250312T181419Z
LAST-MODIFIED:20250312T182120Z
UID:10000094-1750785300-1750798800@www.linwoodcountryclub.com
SUMMARY:Men's League
DESCRIPTION:The men’s league is a nine-hole match play competition with fellow members within handicapped flights. Dinner will follow with golf and camaraderie. The men’s league is perfect for all men looking to enjoy some friendly competition and have the opportunity to meet new members of the club. \nThere is a shotgun start on Tuesdays at 5:15pm for five consecutive weeks. There are three sessions continuing May through August. Prior to the begin date in May\, we hold Spring Training Sessions on Tuesdays as a warmup. In the Fall\, we continue competitions on Tuesday nights for as long as weather permits.
URL:https://www.linwoodcountryclub.com/event/mens-league/2025-06-24/
CATEGORIES:Golf
END:VEVENT
BEGIN:VEVENT
DTSTART;TZID=America/New_York:20250624T150000
DTEND;TZID=America/New_York:20250624T180000
DTSTAMP:20260421T015053
CREATED:20250527T194039Z
LAST-MODIFIED:20250620T160208Z
UID:10000415-1750777200-1750788000@www.linwoodcountryclub.com
SUMMARY:Takeout Tuesday
DESCRIPTION:Every Tuesday\, take home a complete family meal! These weekly meals are available in full size (or 6-8 people) or half size (3-4 people). \nTo order\, please call (609) 927 – 6134 or email office@linwoodcountryclub.com. Orders must be placed by 1pm on the day of pickup
URL:https://www.linwoodcountryclub.com/event/takeout-tuesday-3/2025-06-24/
LOCATION:Linwood Country Club\, 500 Shore Road\, Linwood\, NJ\, 08221\, United States
CATEGORIES:Restaurant
ATTACH;FMTTYPE=image/jpeg:https://www.linwoodcountryclub.com/wp-content/uploads/2024/09/Takeout-Tuesday.jpg
END:VEVENT
BEGIN:VEVENT
DTSTART;VALUE=DATE:20250619
DTEND;VALUE=DATE:20250620
DTSTAMP:20260421T015053
CREATED:20250522T145608Z
LAST-MODIFIED:20250522T145608Z
UID:10000268-1750291200-1750377599@www.linwoodcountryclub.com
SUMMARY:No Tee Times Available
DESCRIPTION:To to a large golf tournament\, no tee times are available on June 19\, 2025
URL:https://www.linwoodcountryclub.com/event/no-tee-times-available/
CATEGORIES:Golf
END:VEVENT
BEGIN:VEVENT
DTSTART;TZID=UTC:20250618T090000
DTEND;TZID=UTC:20250618T120000
DTSTAMP:20260421T015053
CREATED:20250312T181625Z
LAST-MODIFIED:20250912T182401Z
UID:10000167-1750237200-1750248000@www.linwoodcountryclub.com
SUMMARY:Women's Golf Association
DESCRIPTION:Every Wednesday at 9:00am\, the Women’s Golf Association has an eighteen hole competition with various formats. Following golf there is a lunch and results for the day’s competition.
URL:https://www.linwoodcountryclub.com/event/womens-golf-association/2025-06-18/
CATEGORIES:Golf
END:VEVENT
BEGIN:VEVENT
DTSTART;TZID=UTC:20250617T171500
DTEND;TZID=UTC:20250617T210000
DTSTAMP:20260421T015053
CREATED:20250312T181419Z
LAST-MODIFIED:20250312T182120Z
UID:10000093-1750180500-1750194000@www.linwoodcountryclub.com
SUMMARY:Men's League
DESCRIPTION:The men’s league is a nine-hole match play competition with fellow members within handicapped flights. Dinner will follow with golf and camaraderie. The men’s league is perfect for all men looking to enjoy some friendly competition and have the opportunity to meet new members of the club. \nThere is a shotgun start on Tuesdays at 5:15pm for five consecutive weeks. There are three sessions continuing May through August. Prior to the begin date in May\, we hold Spring Training Sessions on Tuesdays as a warmup. In the Fall\, we continue competitions on Tuesday nights for as long as weather permits.
URL:https://www.linwoodcountryclub.com/event/mens-league/2025-06-17/
CATEGORIES:Golf
END:VEVENT
BEGIN:VEVENT
DTSTART;TZID=America/New_York:20250617T150000
DTEND;TZID=America/New_York:20250617T180000
DTSTAMP:20260421T015053
CREATED:20250527T194039Z
LAST-MODIFIED:20250620T160208Z
UID:10000275-1750172400-1750183200@www.linwoodcountryclub.com
SUMMARY:Takeout Tuesday
DESCRIPTION:Every Tuesday\, take home a complete family meal! These weekly meals are available in full size (or 6-8 people) or half size (3-4 people). \nTo order\, please call (609) 927 – 6134 or email office@linwoodcountryclub.com. Orders must be placed by 1pm on the day of pickup
URL:https://www.linwoodcountryclub.com/event/takeout-tuesday-3/2025-06-17/
LOCATION:Linwood Country Club\, 500 Shore Road\, Linwood\, NJ\, 08221\, United States
CATEGORIES:Restaurant
ATTACH;FMTTYPE=image/jpeg:https://www.linwoodcountryclub.com/wp-content/uploads/2024/09/Takeout-Tuesday.jpg
END:VEVENT
BEGIN:VEVENT
DTSTART;TZID=UTC:20250612T170000
DTEND;TZID=UTC:20250612T190000
DTSTAMP:20260421T015053
CREATED:20250515T153939Z
LAST-MODIFIED:20250515T154621Z
UID:10000252-1749747600-1749754800@www.linwoodcountryclub.com
SUMMARY:Swing & A Sip
DESCRIPTION:Swing & Sip – A Ladies’ Night on the Green!Ready to mix a little wine with your wedge? Join us for Swing & Sip\, a fun and relaxed beginner clinic just for the ladies! \n1-hour golf lesson⛳ Play 3 holesEnjoy 3 glasses of winePlus tasty hors d’oeuvres \nWhether you’re new to the game or just here for the good times\, it’s the perfect way to spend an evening! \nMember Price: $55 | Non-Member Price: $65Call 609-927-7374 to reserve your spot! Sign-ups begin one week in advance.
URL:https://www.linwoodcountryclub.com/event/swing-a-sip/2025-06-12/
CATEGORIES:Fox Den
ATTACH;FMTTYPE=image/jpeg:https://www.linwoodcountryclub.com/wp-content/uploads/2022/06/Swing-and-Sip-Newsletter.jpg
END:VEVENT
BEGIN:VEVENT
DTSTART;TZID=UTC:20250611T090000
DTEND;TZID=UTC:20250611T120000
DTSTAMP:20260421T015053
CREATED:20250312T181625Z
LAST-MODIFIED:20250912T182401Z
UID:10000166-1749632400-1749643200@www.linwoodcountryclub.com
SUMMARY:Women's Golf Association
DESCRIPTION:Every Wednesday at 9:00am\, the Women’s Golf Association has an eighteen hole competition with various formats. Following golf there is a lunch and results for the day’s competition.
URL:https://www.linwoodcountryclub.com/event/womens-golf-association/2025-06-11/
CATEGORIES:Golf
END:VEVENT
BEGIN:VEVENT
DTSTART;TZID=UTC:20250610T171500
DTEND;TZID=UTC:20250610T210000
DTSTAMP:20260421T015053
CREATED:20250312T181419Z
LAST-MODIFIED:20250312T182120Z
UID:10000092-1749575700-1749589200@www.linwoodcountryclub.com
SUMMARY:Men's League
DESCRIPTION:The men’s league is a nine-hole match play competition with fellow members within handicapped flights. Dinner will follow with golf and camaraderie. The men’s league is perfect for all men looking to enjoy some friendly competition and have the opportunity to meet new members of the club. \nThere is a shotgun start on Tuesdays at 5:15pm for five consecutive weeks. There are three sessions continuing May through August. Prior to the begin date in May\, we hold Spring Training Sessions on Tuesdays as a warmup. In the Fall\, we continue competitions on Tuesday nights for as long as weather permits.
URL:https://www.linwoodcountryclub.com/event/mens-league/2025-06-10/
CATEGORIES:Golf
END:VEVENT
BEGIN:VEVENT
DTSTART;TZID=America/New_York:20250610T150000
DTEND;TZID=America/New_York:20250610T180000
DTSTAMP:20260421T015053
CREATED:20250527T194230Z
LAST-MODIFIED:20250527T194230Z
UID:10000236-1749567600-1749578400@www.linwoodcountryclub.com
SUMMARY:Takeout Tuesday
DESCRIPTION:Starting April 15\, every Tuesday\, take home a complete family meal! These weekly meals are available in full size (or 6-8 people) or half size (3-4 people). \nTo order\, please call (609) 927 – 6134 or email office@linwoodcountryclub.com. Orders must be placed by 1pm on the day of pickup
URL:https://www.linwoodcountryclub.com/event/takeout-tuesday-4/
LOCATION:Linwood Country Club\, 500 Shore Road\, Linwood\, NJ\, 08221\, United States
CATEGORIES:Restaurant
ATTACH;FMTTYPE=image/jpeg:https://www.linwoodcountryclub.com/wp-content/uploads/2024/09/Takeout-Tuesday.jpg
END:VEVENT
BEGIN:VEVENT
DTSTART;TZID=America/New_York:20250610T150000
DTEND;TZID=America/New_York:20250610T180000
DTSTAMP:20260421T015053
CREATED:20250527T194039Z
LAST-MODIFIED:20250620T160208Z
UID:10000274-1749567600-1749578400@www.linwoodcountryclub.com
SUMMARY:Takeout Tuesday
DESCRIPTION:Every Tuesday\, take home a complete family meal! These weekly meals are available in full size (or 6-8 people) or half size (3-4 people). \nTo order\, please call (609) 927 – 6134 or email office@linwoodcountryclub.com. Orders must be placed by 1pm on the day of pickup
URL:https://www.linwoodcountryclub.com/event/takeout-tuesday-3/2025-06-10/
LOCATION:Linwood Country Club\, 500 Shore Road\, Linwood\, NJ\, 08221\, United States
CATEGORIES:Restaurant
ATTACH;FMTTYPE=image/jpeg:https://www.linwoodcountryclub.com/wp-content/uploads/2024/09/Takeout-Tuesday.jpg
END:VEVENT
BEGIN:VEVENT
DTSTART;VALUE=DATE:20250609
DTEND;VALUE=DATE:20250610
DTSTAMP:20260421T015053
CREATED:20250522T145532Z
LAST-MODIFIED:20250522T145532Z
UID:10000267-1749427200-1749513599@www.linwoodcountryclub.com
SUMMARY:Limited Tee Times
DESCRIPTION:Due to a golf tournament\, limited tee times are available on June 9
URL:https://www.linwoodcountryclub.com/event/limited-tee-times/
CATEGORIES:Golf
END:VEVENT
BEGIN:VEVENT
DTSTART;TZID=UTC:20250604T090000
DTEND;TZID=UTC:20250604T120000
DTSTAMP:20260421T015053
CREATED:20250312T181625Z
LAST-MODIFIED:20250912T182401Z
UID:10000165-1749027600-1749038400@www.linwoodcountryclub.com
SUMMARY:Women's Golf Association
DESCRIPTION:Every Wednesday at 9:00am\, the Women’s Golf Association has an eighteen hole competition with various formats. Following golf there is a lunch and results for the day’s competition.
URL:https://www.linwoodcountryclub.com/event/womens-golf-association/2025-06-04/
CATEGORIES:Golf
END:VEVENT
BEGIN:VEVENT
DTSTART;TZID=UTC:20250603T171500
DTEND;TZID=UTC:20250603T210000
DTSTAMP:20260421T015053
CREATED:20250312T181419Z
LAST-MODIFIED:20250312T182120Z
UID:10000091-1748970900-1748984400@www.linwoodcountryclub.com
SUMMARY:Men's League
DESCRIPTION:The men’s league is a nine-hole match play competition with fellow members within handicapped flights. Dinner will follow with golf and camaraderie. The men’s league is perfect for all men looking to enjoy some friendly competition and have the opportunity to meet new members of the club. \nThere is a shotgun start on Tuesdays at 5:15pm for five consecutive weeks. There are three sessions continuing May through August. Prior to the begin date in May\, we hold Spring Training Sessions on Tuesdays as a warmup. In the Fall\, we continue competitions on Tuesday nights for as long as weather permits.
URL:https://www.linwoodcountryclub.com/event/mens-league/2025-06-03/
CATEGORIES:Golf
END:VEVENT
BEGIN:VEVENT
DTSTART;TZID=America/New_York:20250603T150000
DTEND;TZID=America/New_York:20250603T180000
DTSTAMP:20260421T015053
CREATED:20250527T194039Z
LAST-MODIFIED:20250620T160208Z
UID:10000273-1748962800-1748973600@www.linwoodcountryclub.com
SUMMARY:Takeout Tuesday
DESCRIPTION:Every Tuesday\, take home a complete family meal! These weekly meals are available in full size (or 6-8 people) or half size (3-4 people). \nTo order\, please call (609) 927 – 6134 or email office@linwoodcountryclub.com. Orders must be placed by 1pm on the day of pickup
URL:https://www.linwoodcountryclub.com/event/takeout-tuesday-3/2025-06-03/
LOCATION:Linwood Country Club\, 500 Shore Road\, Linwood\, NJ\, 08221\, United States
CATEGORIES:Restaurant
ATTACH;FMTTYPE=image/jpeg:https://www.linwoodcountryclub.com/wp-content/uploads/2024/09/Takeout-Tuesday.jpg
END:VEVENT
BEGIN:VEVENT
DTSTART;TZID=UTC:20250531T100000
DTEND;TZID=UTC:20250531T140000
DTSTAMP:20260421T015053
CREATED:20250219T171310Z
LAST-MODIFIED:20250219T172805Z
UID:10000014-1748685600-1748700000@www.linwoodcountryclub.com
SUMMARY:Cobra Demo Day
DESCRIPTION:Plan ahead and mark your calendars to update your equipment. As we near the date\, members will be sent an appointment link to set up your fitting appointment. Although walkups will be welcomed\, it will be best to make an appointment to have the undivided attention of the technician handling the fitting.
URL:https://www.linwoodcountryclub.com/event/cobra-demo-day/
CATEGORIES:demo day,Golf
ATTACH;FMTTYPE=image/jpeg:https://www.linwoodcountryclub.com/wp-content/uploads/2025/02/cobra-golf-logo.jpg
END:VEVENT
BEGIN:VEVENT
DTSTART;TZID=UTC:20250529T170000
DTEND;TZID=UTC:20250529T190000
DTSTAMP:20260421T015053
CREATED:20250515T153939Z
LAST-MODIFIED:20250515T154621Z
UID:10000251-1748538000-1748545200@www.linwoodcountryclub.com
SUMMARY:Swing & A Sip
DESCRIPTION:Swing & Sip – A Ladies’ Night on the Green!Ready to mix a little wine with your wedge? Join us for Swing & Sip\, a fun and relaxed beginner clinic just for the ladies! \n1-hour golf lesson⛳ Play 3 holesEnjoy 3 glasses of winePlus tasty hors d’oeuvres \nWhether you’re new to the game or just here for the good times\, it’s the perfect way to spend an evening! \nMember Price: $55 | Non-Member Price: $65Call 609-927-7374 to reserve your spot! Sign-ups begin one week in advance.
URL:https://www.linwoodcountryclub.com/event/swing-a-sip/2025-05-29/
CATEGORIES:Fox Den
ATTACH;FMTTYPE=image/jpeg:https://www.linwoodcountryclub.com/wp-content/uploads/2022/06/Swing-and-Sip-Newsletter.jpg
END:VEVENT
BEGIN:VEVENT
DTSTART;TZID=UTC:20250528T090000
DTEND;TZID=UTC:20250528T120000
DTSTAMP:20260421T015053
CREATED:20250312T181625Z
LAST-MODIFIED:20250912T182401Z
UID:10000164-1748422800-1748433600@www.linwoodcountryclub.com
SUMMARY:Women's Golf Association
DESCRIPTION:Every Wednesday at 9:00am\, the Women’s Golf Association has an eighteen hole competition with various formats. Following golf there is a lunch and results for the day’s competition.
URL:https://www.linwoodcountryclub.com/event/womens-golf-association/2025-05-28/
CATEGORIES:Golf
END:VEVENT
BEGIN:VEVENT
DTSTART;TZID=UTC:20250527T171500
DTEND;TZID=UTC:20250527T210000
DTSTAMP:20260421T015053
CREATED:20250312T181419Z
LAST-MODIFIED:20250312T182120Z
UID:10000090-1748366100-1748379600@www.linwoodcountryclub.com
SUMMARY:Men's League
DESCRIPTION:The men’s league is a nine-hole match play competition with fellow members within handicapped flights. Dinner will follow with golf and camaraderie. The men’s league is perfect for all men looking to enjoy some friendly competition and have the opportunity to meet new members of the club. \nThere is a shotgun start on Tuesdays at 5:15pm for five consecutive weeks. There are three sessions continuing May through August. Prior to the begin date in May\, we hold Spring Training Sessions on Tuesdays as a warmup. In the Fall\, we continue competitions on Tuesday nights for as long as weather permits.
URL:https://www.linwoodcountryclub.com/event/mens-league/2025-05-27/
CATEGORIES:Golf
END:VEVENT
BEGIN:VEVENT
DTSTART;TZID=UTC:20250521T090000
DTEND;TZID=UTC:20250521T120000
DTSTAMP:20260421T015053
CREATED:20250312T181625Z
LAST-MODIFIED:20250912T182401Z
UID:10000163-1747818000-1747828800@www.linwoodcountryclub.com
SUMMARY:Women's Golf Association
DESCRIPTION:Every Wednesday at 9:00am\, the Women’s Golf Association has an eighteen hole competition with various formats. Following golf there is a lunch and results for the day’s competition.
URL:https://www.linwoodcountryclub.com/event/womens-golf-association/2025-05-21/
CATEGORIES:Golf
END:VEVENT
BEGIN:VEVENT
DTSTART;TZID=UTC:20250520T171500
DTEND;TZID=UTC:20250520T210000
DTSTAMP:20260421T015053
CREATED:20250312T181419Z
LAST-MODIFIED:20250312T182120Z
UID:10000089-1747761300-1747774800@www.linwoodcountryclub.com
SUMMARY:Men's League
DESCRIPTION:The men’s league is a nine-hole match play competition with fellow members within handicapped flights. Dinner will follow with golf and camaraderie. The men’s league is perfect for all men looking to enjoy some friendly competition and have the opportunity to meet new members of the club. \nThere is a shotgun start on Tuesdays at 5:15pm for five consecutive weeks. There are three sessions continuing May through August. Prior to the begin date in May\, we hold Spring Training Sessions on Tuesdays as a warmup. In the Fall\, we continue competitions on Tuesday nights for as long as weather permits.
URL:https://www.linwoodcountryclub.com/event/mens-league/2025-05-20/
CATEGORIES:Golf
END:VEVENT
END:VCALENDAR