BEGIN:VCALENDAR
VERSION:2.0
PRODID:-//Linwood Country Club - ECPv6.15.20//NONSGML v1.0//EN
CALSCALE:GREGORIAN
METHOD:PUBLISH
X-ORIGINAL-URL:https://www.linwoodcountryclub.com
X-WR-CALDESC:Events for Linwood Country Club
REFRESH-INTERVAL;VALUE=DURATION:PT1H
X-Robots-Tag:noindex
X-PUBLISHED-TTL:PT1H
BEGIN:VTIMEZONE
TZID:America/New_York
BEGIN:DAYLIGHT
TZOFFSETFROM:-0500
TZOFFSETTO:-0400
TZNAME:EDT
DTSTART:20240310T070000
END:DAYLIGHT
BEGIN:STANDARD
TZOFFSETFROM:-0400
TZOFFSETTO:-0500
TZNAME:EST
DTSTART:20241103T060000
END:STANDARD
BEGIN:DAYLIGHT
TZOFFSETFROM:-0500
TZOFFSETTO:-0400
TZNAME:EDT
DTSTART:20250309T070000
END:DAYLIGHT
BEGIN:STANDARD
TZOFFSETFROM:-0400
TZOFFSETTO:-0500
TZNAME:EST
DTSTART:20251102T060000
END:STANDARD
BEGIN:DAYLIGHT
TZOFFSETFROM:-0500
TZOFFSETTO:-0400
TZNAME:EDT
DTSTART:20260308T070000
END:DAYLIGHT
BEGIN:STANDARD
TZOFFSETFROM:-0400
TZOFFSETTO:-0500
TZNAME:EST
DTSTART:20261101T060000
END:STANDARD
END:VTIMEZONE
BEGIN:VEVENT
DTSTART;TZID=America/New_York:20250415T150000
DTEND;TZID=America/New_York:20250415T180000
DTSTAMP:20260421T111435
CREATED:20240918T182125Z
LAST-MODIFIED:20250403T145152Z
UID:10000234-1744729200-1744740000@www.linwoodcountryclub.com
SUMMARY:Takeout Tuesday
DESCRIPTION:Starting April 15\, every Tuesday\, take home a complete family meal! These weekly meals are available in full size (or 6-8 people) or half size (3-4 people). \nTo order\, please call (609) 927 – 6134 or email office@linwoodcountryclub.com. Orders must be placed by 1pm on the day of pickup
URL:https://www.linwoodcountryclub.com/event/takeout-tuesday/2025-04-15/
LOCATION:Linwood Country Club\, 500 Shore Road\, Linwood\, NJ\, 08221\, United States
CATEGORIES:Restaurant
ATTACH;FMTTYPE=image/jpeg:https://www.linwoodcountryclub.com/wp-content/uploads/2024/09/Takeout-Tuesday.jpg
END:VEVENT
BEGIN:VEVENT
DTSTART;TZID=America/New_York:20250422T150000
DTEND;TZID=America/New_York:20250422T180000
DTSTAMP:20260421T111435
CREATED:20240918T182125Z
LAST-MODIFIED:20250403T145152Z
UID:10000235-1745334000-1745344800@www.linwoodcountryclub.com
SUMMARY:Takeout Tuesday
DESCRIPTION:Starting April 15\, every Tuesday\, take home a complete family meal! These weekly meals are available in full size (or 6-8 people) or half size (3-4 people). \nTo order\, please call (609) 927 – 6134 or email office@linwoodcountryclub.com. Orders must be placed by 1pm on the day of pickup
URL:https://www.linwoodcountryclub.com/event/takeout-tuesday/2025-04-22/
LOCATION:Linwood Country Club\, 500 Shore Road\, Linwood\, NJ\, 08221\, United States
CATEGORIES:Restaurant
ATTACH;FMTTYPE=image/jpeg:https://www.linwoodcountryclub.com/wp-content/uploads/2024/09/Takeout-Tuesday.jpg
END:VEVENT
END:VCALENDAR