BEGIN:VCALENDAR
VERSION:2.0
PRODID:-//Linwood Country Club - ECPv6.15.20//NONSGML v1.0//EN
CALSCALE:GREGORIAN
METHOD:PUBLISH
X-ORIGINAL-URL:https://www.linwoodcountryclub.com
X-WR-CALDESC:Events for Linwood Country Club
REFRESH-INTERVAL;VALUE=DURATION:PT1H
X-Robots-Tag:noindex
X-PUBLISHED-TTL:PT1H
BEGIN:VTIMEZONE
TZID:America/New_York
BEGIN:DAYLIGHT
TZOFFSETFROM:-0500
TZOFFSETTO:-0400
TZNAME:EDT
DTSTART:20240310T070000
END:DAYLIGHT
BEGIN:STANDARD
TZOFFSETFROM:-0400
TZOFFSETTO:-0500
TZNAME:EST
DTSTART:20241103T060000
END:STANDARD
BEGIN:DAYLIGHT
TZOFFSETFROM:-0500
TZOFFSETTO:-0400
TZNAME:EDT
DTSTART:20250309T070000
END:DAYLIGHT
BEGIN:STANDARD
TZOFFSETFROM:-0400
TZOFFSETTO:-0500
TZNAME:EST
DTSTART:20251102T060000
END:STANDARD
BEGIN:DAYLIGHT
TZOFFSETFROM:-0500
TZOFFSETTO:-0400
TZNAME:EDT
DTSTART:20260308T070000
END:DAYLIGHT
BEGIN:STANDARD
TZOFFSETFROM:-0400
TZOFFSETTO:-0500
TZNAME:EST
DTSTART:20261101T060000
END:STANDARD
END:VTIMEZONE
BEGIN:VEVENT
DTSTART;TZID=America/New_York:20250805T150000
DTEND;TZID=America/New_York:20250805T180000
DTSTAMP:20260421T043125
CREATED:20250730T175924Z
LAST-MODIFIED:20250730T181012Z
UID:10000430-1754406000-1754416800@www.linwoodcountryclub.com
SUMMARY:Takeout Tuesday - August
DESCRIPTION:Every Tuesday\, take home a complete family meal! These weekly meals are available in full size (or 6-8 people) or half size (3-4 people). \nTo order\, please call (609) 927 – 6134 or email office@linwoodcountryclub.com. Orders must be placed by 1pm on the day of pickup. \nAUGUST MENU\n8/5 – Shrimp Alfredo – Broccoli\, Penne\, Caesar Salad \n8/12 – Beef Stew – Mashed Potatoes\, Broccolini\, Chopped Salad \n8/19 – Turkey a la King – White Rice\, Arugula Salad \n8/26 – Sausage Bolognese – Rigatoni\, Green Beans\, Garden Salad
URL:https://www.linwoodcountryclub.com/event/takeout-tuesday-august/2025-08-05/
LOCATION:Linwood Country Club\, 500 Shore Road\, Linwood\, NJ\, 08221\, United States
CATEGORIES:Restaurant
ATTACH;FMTTYPE=image/jpeg:https://www.linwoodcountryclub.com/wp-content/uploads/2024/09/Takeout-Tuesday.jpg
END:VEVENT
BEGIN:VEVENT
DTSTART;TZID=America/New_York:20250812T150000
DTEND;TZID=America/New_York:20250812T180000
DTSTAMP:20260421T043125
CREATED:20250730T175924Z
LAST-MODIFIED:20250730T181012Z
UID:10000431-1755010800-1755021600@www.linwoodcountryclub.com
SUMMARY:Takeout Tuesday - August
DESCRIPTION:Every Tuesday\, take home a complete family meal! These weekly meals are available in full size (or 6-8 people) or half size (3-4 people). \nTo order\, please call (609) 927 – 6134 or email office@linwoodcountryclub.com. Orders must be placed by 1pm on the day of pickup. \nAUGUST MENU\n8/5 – Shrimp Alfredo – Broccoli\, Penne\, Caesar Salad \n8/12 – Beef Stew – Mashed Potatoes\, Broccolini\, Chopped Salad \n8/19 – Turkey a la King – White Rice\, Arugula Salad \n8/26 – Sausage Bolognese – Rigatoni\, Green Beans\, Garden Salad
URL:https://www.linwoodcountryclub.com/event/takeout-tuesday-august/2025-08-12/
LOCATION:Linwood Country Club\, 500 Shore Road\, Linwood\, NJ\, 08221\, United States
CATEGORIES:Restaurant
ATTACH;FMTTYPE=image/jpeg:https://www.linwoodcountryclub.com/wp-content/uploads/2024/09/Takeout-Tuesday.jpg
END:VEVENT
BEGIN:VEVENT
DTSTART;TZID=America/New_York:20250819T150000
DTEND;TZID=America/New_York:20250819T180000
DTSTAMP:20260421T043125
CREATED:20250730T175924Z
LAST-MODIFIED:20250730T181012Z
UID:10000432-1755615600-1755626400@www.linwoodcountryclub.com
SUMMARY:Takeout Tuesday - August
DESCRIPTION:Every Tuesday\, take home a complete family meal! These weekly meals are available in full size (or 6-8 people) or half size (3-4 people). \nTo order\, please call (609) 927 – 6134 or email office@linwoodcountryclub.com. Orders must be placed by 1pm on the day of pickup. \nAUGUST MENU\n8/5 – Shrimp Alfredo – Broccoli\, Penne\, Caesar Salad \n8/12 – Beef Stew – Mashed Potatoes\, Broccolini\, Chopped Salad \n8/19 – Turkey a la King – White Rice\, Arugula Salad \n8/26 – Sausage Bolognese – Rigatoni\, Green Beans\, Garden Salad
URL:https://www.linwoodcountryclub.com/event/takeout-tuesday-august/2025-08-19/
LOCATION:Linwood Country Club\, 500 Shore Road\, Linwood\, NJ\, 08221\, United States
CATEGORIES:Restaurant
ATTACH;FMTTYPE=image/jpeg:https://www.linwoodcountryclub.com/wp-content/uploads/2024/09/Takeout-Tuesday.jpg
END:VEVENT
BEGIN:VEVENT
DTSTART;TZID=America/New_York:20250826T150000
DTEND;TZID=America/New_York:20250826T180000
DTSTAMP:20260421T043125
CREATED:20250730T175924Z
LAST-MODIFIED:20250730T181012Z
UID:10000433-1756220400-1756231200@www.linwoodcountryclub.com
SUMMARY:Takeout Tuesday - August
DESCRIPTION:Every Tuesday\, take home a complete family meal! These weekly meals are available in full size (or 6-8 people) or half size (3-4 people). \nTo order\, please call (609) 927 – 6134 or email office@linwoodcountryclub.com. Orders must be placed by 1pm on the day of pickup. \nAUGUST MENU\n8/5 – Shrimp Alfredo – Broccoli\, Penne\, Caesar Salad \n8/12 – Beef Stew – Mashed Potatoes\, Broccolini\, Chopped Salad \n8/19 – Turkey a la King – White Rice\, Arugula Salad \n8/26 – Sausage Bolognese – Rigatoni\, Green Beans\, Garden Salad
URL:https://www.linwoodcountryclub.com/event/takeout-tuesday-august/2025-08-26/
LOCATION:Linwood Country Club\, 500 Shore Road\, Linwood\, NJ\, 08221\, United States
CATEGORIES:Restaurant
ATTACH;FMTTYPE=image/jpeg:https://www.linwoodcountryclub.com/wp-content/uploads/2024/09/Takeout-Tuesday.jpg
END:VEVENT
END:VCALENDAR